BEGIN:VCALENDAR
VERSION:2.0
PRODID:-//ChamberMaster//Event Calendar 2.0//EN
METHOD:PUBLISH
X-PUBLISHED-TTL:P3D
REFRESH-INTERVAL:P3D
CALSCALE:GREGORIAN
BEGIN:VEVENT
DTSTART:20250803T210000Z
DTEND:20250803T230000Z
X-MICROSOFT-CDO-ALLDAYEVENT:FALSE
SUMMARY:Rockport Chamber Music Festival: Gryphon Trio & Barry Shiffman
DESCRIPTION:Recognized as one of the world's preeminent piano trios for over 25 years\, Gryphon Trio has been praised for its "breathtaking ensemble and tonal control" (BBC Magazine). The Trio is joined by violist (and artistic director) Barry Shiffman for a program featuring Brahms and Beethoven's Piano Trio\, Op. 97 "Archduke".\n\nPROGRAM\n\nBRAHMS: Piano Quartet in G minor\, Op. 25\n\nIntermission\n\nBEETHOVEN: Piano Trio\, Op. 97 "Archduke"\n\n\n\nABOUT GRYPHON TRIO\n\nGryphon Trio is firmly established as one of the world's preeminent piano trios. For more than 25 years\, it has earned acclaim from international audiences with its highly refined\, dynamic\, and memorable performances. The Trio's repertoire ranges from traditional to contemporary\, and from European classicism to modern-day multimedia. It is committed to redefining chamber music for the 21st century.
X-ALT-DESC;FMTTYPE=text/html:<p>Recognized as one of the world&rsquo\;s preeminent piano trios for over 25 years\, Gryphon Trio has been praised for its &ldquo\;breathtaking ensemble and tonal control&rdquo\; (<em>BBC Magazine</em>). The Trio is joined by violist (and artistic director) Barry Shiffman for a program featuring Brahms and Beethoven&rsquo\;s Piano Trio\, Op. 97 &ldquo\;Archduke&rdquo\;.</p>\n\n<h4>PROGRAM</h4>\n\n<p>BRAHMS: Piano Quartet in G minor\, Op. 25<br />\n<em>Intermission</em><br />\nBEETHOVEN: Piano Trio\, Op. 97 &ldquo\;Archduke&rdquo\;</p>\n\n<h4><br />\nABOUT GRYPHON TRIO</h4>\n\n<p>Gryphon Trio is firmly established as one of the world&rsquo\;s preeminent piano trios. For more than 25 years\, it has earned acclaim from international audiences with its highly refined\, dynamic\, and memorable performances. The Trio&rsquo\;s repertoire ranges from traditional to contemporary\, and from European classicism to modern-day multimedia. It is committed to redefining chamber music for the 21<sup>st</sup>&nbsp\;century.</p>\n
LOCATION:37 Main St\, Rockport\, MA 01966
UID:e.2981.36762
SEQUENCE:3
DTSTAMP:20260425T001026Z
URL:https://business.capeannchamber.com/events/details/rockport-chamber-music-festival-gryphon-trio-barry-shiffman-36762
END:VEVENT

END:VCALENDAR
