BEGIN:VCALENDAR
VERSION:2.0
PRODID:-//ChamberMaster//Event Calendar 2.0//EN
METHOD:PUBLISH
X-PUBLISHED-TTL:P3D
REFRESH-INTERVAL:P3D
CALSCALE:GREGORIAN
BEGIN:VEVENT
DTSTART:20250628T233000Z
DTEND:20250629T013000Z
X-MICROSOFT-CDO-ALLDAYEVENT:FALSE
SUMMARY:Rockport Chamber Music Festival: All-Schubert: Jonathan Biss\, piano
DESCRIPTION:Jonathan Biss\, praised as "a superb pianist and an eloquent and insightful music writer" (The Boston Globe)\, performs Schubert's final sonatas\, the Sonata in A Major\, D.959 and Sonata in B-flat Major\, D.960. Composed in the last months of Schubert's life\, these works are celebrated for their lyrical beauty\, emotional depth and profound introspection.\n\nAll-Schubert Program\n\nPiano Sonata in A major\, D.959\n\nIntermission\n\nPiano Sonata in B-flat major\, D.960
X-ALT-DESC;FMTTYPE=text/html:<p>Jonathan Biss\, praised as &ldquo\;a superb pianist and&hellip\;an eloquent and insightful music writer&rdquo\; (<em>The Boston Globe</em>)\, performs Schubert&rsquo\;s final sonatas\, the Sonata in A Major\, D.959 and Sonata in B-flat Major\, D.960. Composed in the last months of Schubert&rsquo\;s life\, these works are celebrated for their lyrical beauty\, emotional depth and profound introspection.</p>\n\n<h4>All-Schubert Program</h4>\n\n<p>Piano Sonata in A major\, D.959<br />\n<em>Intermission</em><br />\nPiano Sonata in B-flat major\, D.960</p>\n
LOCATION:37 Main St\, Rockport\, MA 01966
UID:e.2981.36734
SEQUENCE:3
DTSTAMP:20260424T223556Z
URL:https://business.capeannchamber.com/events/details/rockport-chamber-music-festival-all-schubert-jonathan-biss-piano-36734
END:VEVENT

END:VCALENDAR
