BEGIN:VCALENDAR
VERSION:2.0
PRODID:-//ChamberMaster//Event Calendar 2.0//EN
METHOD:PUBLISH
X-PUBLISHED-TTL:P3D
REFRESH-INTERVAL:P3D
CALSCALE:GREGORIAN
BEGIN:VEVENT
DTSTART:20250803T230000Z
DTEND:20250804T003000Z
X-MICROSOFT-CDO-ALLDAYEVENT:FALSE
SUMMARY:Rockport Legion Band Presents: "Where in the World"
DESCRIPTION:Rockport Legion Band\n\n2025 Summer Concert Series\n\nCape Ann's Community Concert Band since 1932\n\nConducted by Logan LaRue\n\n\n\nThe theme of this Sunday's Legion Band Concert is "Where in the World".\n\n	\n		\n			Piece\n			Composer/Arranger\n		\n	\n	\n		\n			National Anthem\n			Henry Fillmore\n		\n		\n			I'm Shipping Up to Boston\n			Alexander Barr et al\, arr. Sean O'Loughlin\n		\n		\n			New York 1927\n			Warren Barker\n		\n		\n			Loch Lomond\n			Traditional\, arr. Frank Ticheli\n		\n		\n			Three Ayres from Gloucester\n			Hugh M. Stuart\n		\n		\n			St. Louis Blues\n			W. C. Handy\, arr Luther Henderson\n		\n		\n			Selections from Chicago\n			John Kander\, arr. Ted Ricketts\n		\n		\n			Man of La Mancha\n			Mitch Leigh\, arr. Frank Erickson\n		\n		\n			Appalachian Morning\n			Robert Sheldon\n		\n		\n			God Bless America\n			Irving Berlin/ Arr. John Edmondson\n		\n	\n\n\n2025 Summer Concert Series\n\n\nJuly 6 - Patriotic\n\nJuly 13 - Children's Concert: for the Young at Heart\n\nJuly 20 - Let's Dance\n\nJuly 27 - Out of this World\n\nAugust 3 - Where in the World\n\nAugust 10 - Encores\n\nAugust 17 - Bagpipes\n\nAugust 24 - A Tribute to Bob Rick\n\n\n\nAll concerts are free to the public.\n\nPerformed Sunday 7pm (weather permitting) at the American Legion Bandstand\, 32 Beach Street\, Rockport\, MA.
X-ALT-DESC;FMTTYPE=text/html:<div><strong><a href="https://rockportlegionband.org/">Rockport Legion Band</a></strong><br />\n<strong>2025 Summer Concert Series</strong><br />\nCape Ann&#39\;s Community Concert Band since 1932<br />\nConducted by Logan LaRue<br />\n<br />\nThe theme of this Sunday&#39\;s Legion Band Concert is <strong>&quot\;Where in the World&quot\;</strong>.\n<table border="0" cellpadding="0" cellspacing="0" style="border-bottom-color:rgb(237\, 237\, 237)\; border-bottom-style:solid\; border-collapse:collapse\; border-image:initial\; border-left-color:initial\; border-left-style:initial\; border-right-color:initial\; border-right-style:initial\; border-spacing:0px\; border-top-color:initial\; border-top-style:initial\; border-width:0px 0px 1px\; color:rgb(68\, 68\, 68)\; font-family:lora\; font-size:14px\; line-height:2\; margin:0px auto 20px\; max-width:800px\; outline:0px\; padding:0px\; vertical-align:baseline\; width:800px">\n	<thead>\n		<tr>\n			<th style="text-align:left\; vertical-align:baseline">Piece</th>\n			<th style="text-align:left\; vertical-align:baseline">Composer/Arranger</th>\n		</tr>\n	</thead>\n	<tbody>\n		<tr>\n			<td style="vertical-align:baseline">National Anthem</td>\n			<td style="vertical-align:baseline">Henry Fillmore</td>\n		</tr>\n		<tr>\n			<td style="vertical-align:baseline">I&rsquo\;m Shipping Up to Boston</td>\n			<td style="vertical-align:baseline">Alexander Barr et al\, arr. Sean O&rsquo\;Loughlin</td>\n		</tr>\n		<tr>\n			<td style="vertical-align:baseline">New York 1927</td>\n			<td style="vertical-align:baseline">Warren Barker</td>\n		</tr>\n		<tr>\n			<td style="vertical-align:baseline">Loch Lomond</td>\n			<td style="vertical-align:baseline">Traditional\, arr. Frank Ticheli</td>\n		</tr>\n		<tr>\n			<td style="vertical-align:baseline">Three Ayres from Gloucester</td>\n			<td style="vertical-align:baseline">Hugh M. Stuart</td>\n		</tr>\n		<tr>\n			<td style="vertical-align:baseline">St. Louis Blues</td>\n			<td style="vertical-align:baseline">W. C. Handy\, arr Luther Henderson</td>\n		</tr>\n		<tr>\n			<td style="vertical-align:baseline">Selections from Chicago</td>\n			<td style="vertical-align:baseline">John Kander\, arr. Ted Ricketts</td>\n		</tr>\n		<tr>\n			<td style="vertical-align:baseline">Man of La Mancha</td>\n			<td style="vertical-align:baseline">Mitch Leigh\, arr. Frank Erickson</td>\n		</tr>\n		<tr>\n			<td style="vertical-align:baseline">Appalachian Morning</td>\n			<td style="vertical-align:baseline">Robert Sheldon</td>\n		</tr>\n		<tr>\n			<td style="vertical-align:baseline">God Bless America</td>\n			<td style="vertical-align:baseline">Irving Berlin/ Arr. John Edmondson</td>\n		</tr>\n	</tbody>\n</table>\n\n<div><strong>2025 Summer Concert Series</strong></div>\n\n<div>\n<div>July 6 - Patriotic</div>\n\n<div>July 13 - Children&#39\;s Concert: for the Young at Heart</div>\n\n<div>July 20 - Let&#39\;s Dance</div>\n\n<div>July 27 - Out of this World</div>\n\n<div>August 3 - Where in the World</div>\n\n<div>August 10 - Encores</div>\n\n<div>August 17 - Bagpipes</div>\n\n<div>August 24 - A Tribute to Bob Rick</div>\n</div>\n\n<div>\n<div>All concerts are free to the public.</div>\n\n<div>Performed Sunday 7pm (weather permitting) at the American Legion Bandstand\, 32 Beach Street\, Rockport\, MA.</div>\n</div>\n</div>\n
LOCATION:Back Beach Bandstand 32 Beach Street Rockport\, MA 01966
UID:e.2981.41359
SEQUENCE:3
DTSTAMP:20260425T000102Z
URL:https://business.capeannchamber.com/events/details/rockport-american-legion-band-presents-where-in-the-world-41359
END:VEVENT

END:VCALENDAR
