BEGIN:VCALENDAR
VERSION:2.0
PRODID:-//ChamberMaster//Event Calendar 2.0//EN
METHOD:PUBLISH
X-PUBLISHED-TTL:P3D
REFRESH-INTERVAL:P3D
CALSCALE:GREGORIAN
BEGIN:VEVENT
DTSTART:20251108T010000Z
DTEND:20251108T040000Z
X-MICROSOFT-CDO-ALLDAYEVENT:FALSE
SUMMARY:Rock & Roll Circus Starring James Montgomery\, Jon Butcher\, and Danny Klein
DESCRIPTION:Reserved Floor Seats $39 + $6.95 service fee\n\nReserved Rails $35 + $6.95 service fee\n\nGA Standing $25 + $6.95 service fee\n\n7:00pm Doors / 8:00pm Show \n\n18+\n\n\n\nBlues legend James Montgomery\, Grammy Nominee Jon Butcher\, J. Geils Band's Danny Klein & others come to help local food pantry\, The Open Door!\n\n\n\nRockin' 4 Vets brings a Rock n' Roll Circus to The Cut on November 7 in a benefit event to support The Open Door\, a local Gloucester food pantry.\n\n\n\nLoaded with high-energy\, high-octane rock\, the Rock n' Roll Circus is an explosive show that will be Nothin' but a House Party.\n\n\n\nThis great line-up features 2 Grammy nominees\, 2 New England Music Hall of Fame inductees\, 2 Rhode Island Music Hall of Fame inductees\, a New York Blues Hall of Fame inductee\, and a Rock & Roll Hall of Fame nominee.\n\n\n\n \n\n\n\nMontgomery\, a New England blues legend\, has performed across the world as a long-time member of the late Johnny Winter Band and leader of the James Montgomery Band\, sharing the stage with artists such as Aerosmith\, the Eagles\, and Fleetwood Mac\, Sly & the Family Stone\, Foghat\, and the Allman Brothers among others.\n\n\n\n \n\n\n\nButcher\, a guitar slinger\, and Grammy Nominee\, releasing records on both Polydor and Capital Records\, has toured and opened for bands such as the J. Geils Band and Def Leppard. Klein\, known as "the Ace on Bass"\, is a founding member of Boston's legendary and globally renowned\, J. Geils Band.\n\n\n\n \n\n\n\nThe Circus brings its horn section\; one that's second to none. It features Andrew "AC" Clarke\, Baron Raymonde and Dan Cipriano. This line-up features performers who have been touring members of bands such as Bruce Springsteen and Rod Stewart and supported other Hall of Fame acts such as Sting\, The Beach Boys\, The Rascals\, Jon Bon Jovi\, Lynyrd Skynyrd\, The Allman Brothers\, B.B. King\, Joan Jett & The Blackhearts\, Dicky Betts\, and Ronnie Spector.\n\n\n\n \n\n\n\nNot to be overlooked in this show will be the backing band consisting of drummer AJ Vallee (Southern Rock All-Stars\, The Peacheaters\, Starr Faithfull and One Night of Queen). Bassist\, Tim Archibald (Barry Goudreau's Engine Room\, Peter Wolf's House Party 5\, NEW MAN and American Vinyl All Star Band\, w/Skunk Baxter)\, along with Todd Farland (keys) and James Germana (guitar)\n\n\n\nThis show is produced by Rockin' 4 Vets/Alive & Kicking Productions\, which produces Vets benefit concerts throughout New England to support organizations assisting Vets on issues related to PTSD\, addiction\, and homelessness.
X-ALT-DESC;FMTTYPE=text/html:<span style="color:rgb(64\, 64\, 65)\; font-family:open sans\,sans-serif\; font-size:14px">Reserved Floor Seats $39 + $6.95 service fee</span><br />\n<span style="color:rgb(64\, 64\, 65)\; font-family:open sans\,sans-serif\; font-size:14px">Reserved Rails $35 + $6.95 service fee</span><br />\n<span style="color:rgb(64\, 64\, 65)\; font-family:open sans\,sans-serif\; font-size:14px">GA Standing $25 + $6.95 service fee</span><br />\n<span style="color:rgb(64\, 64\, 65)\; font-family:open sans\,sans-serif\; font-size:14px">7:00pm Doors / 8:00pm Show&nbsp\;</span><br />\n<span style="color:rgb(64\, 64\, 65)\; font-family:open sans\,sans-serif\; font-size:14px">18+</span><br />\n<br />\n<span style="color:rgb(64\, 64\, 65)\; font-family:open sans\,sans-serif\; font-size:14px">Blues legend James Montgomery\, Grammy Nominee Jon Butcher\, J. Geils Band&rsquo\;s Danny Klein &amp\; others come to help local food pantry\, The Open Door!</span><br />\n<br />\n<span style="color:rgb(64\, 64\, 65)\; font-family:open sans\,sans-serif\; font-size:14px">Rockin&rsquo\; 4 Vets brings a Rock n&rsquo\; Roll Circus to The Cut on November 7 in a benefit event to support The Open Door\, a local Gloucester food pantry.</span><br />\n<br />\n<span style="color:rgb(64\, 64\, 65)\; font-family:open sans\,sans-serif\; font-size:14px">Loaded with high-energy\, high-octane rock\, the Rock n&rsquo\; Roll Circus is an explosive show that will be Nothin&rsquo\; but a House Party.</span><br />\n<br />\n<span style="color:rgb(64\, 64\, 65)\; font-family:open sans\,sans-serif\; font-size:14px">This great line-up features 2 Grammy nominees\, 2 New England Music Hall of Fame inductees\, 2 Rhode Island Music Hall of Fame inductees\, a New York Blues Hall of Fame inductee\, and a Rock &amp\; Roll Hall of Fame nominee.</span><br />\n<br />\n<span style="color:rgb(64\, 64\, 65)\; font-family:open sans\,sans-serif\; font-size:14px">&nbsp\;</span><br />\n<br />\n<span style="color:rgb(64\, 64\, 65)\; font-family:open sans\,sans-serif\; font-size:14px">Montgomery\, a New England blues legend\, has performed across the world as a long-time member of the late Johnny Winter Band and leader of the James Montgomery Band\, sharing the stage with artists such as Aerosmith\, the Eagles\, and Fleetwood Mac\, Sly &amp\; the Family Stone\, Foghat\, and the Allman Brothers among others.</span><br />\n<br />\n<span style="color:rgb(64\, 64\, 65)\; font-family:open sans\,sans-serif\; font-size:14px">&nbsp\;</span><br />\n<br />\n<span style="color:rgb(64\, 64\, 65)\; font-family:open sans\,sans-serif\; font-size:14px">Butcher\, a guitar slinger\, and Grammy Nominee\, releasing records on both Polydor and Capital Records\, has toured and opened for bands such as the J. Geils Band and Def Leppard. Klein\, known as &ldquo\;the Ace on Bass&rdquo\;\, is a founding member of Boston&rsquo\;s legendary and globally renowned\, J. Geils Band.</span><br />\n<br />\n<span style="color:rgb(64\, 64\, 65)\; font-family:open sans\,sans-serif\; font-size:14px">&nbsp\;</span><br />\n<br />\n<span style="color:rgb(64\, 64\, 65)\; font-family:open sans\,sans-serif\; font-size:14px">The Circus brings its horn section\; one that&rsquo\;s second to none. It features Andrew &ldquo\;AC&rdquo\; Clarke\, Baron Raymonde and Dan Cipriano. This line-up features performers who have been touring members of bands such as Bruce Springsteen and Rod Stewart and supported other Hall of Fame acts such as Sting\, The Beach Boys\, The Rascals\, Jon Bon Jovi\, Lynyrd Skynyrd\, The Allman Brothers\, B.B. King\, Joan Jett &amp\; The Blackhearts\, Dicky Betts\, and Ronnie Spector.</span><br />\n<br />\n<span style="color:rgb(64\, 64\, 65)\; font-family:open sans\,sans-serif\; font-size:14px">&nbsp\;</span><br />\n<br />\n<span style="color:rgb(64\, 64\, 65)\; font-family:open sans\,sans-serif\; font-size:14px">Not to be overlooked in this show will be the backing band consisting of drummer AJ Vallee (Southern Rock All-Stars\, The Peacheaters\, Starr Faithfull and One Night of Queen). Bassist\, Tim Archibald (Barry Goudreau&rsquo\;s Engine Room\, Peter Wolf&rsquo\;s House Party 5\, NEW MAN and American Vinyl All Star Band\, w/Skunk Baxter)\, along with Todd Farland (keys) and James Germana (guitar)</span><br />\n<br />\n<span style="color:rgb(64\, 64\, 65)\; font-family:open sans\,sans-serif\; font-size:14px">This show is produced by Rockin&rsquo\; 4 Vets/Alive &amp\; Kicking Productions\, which produces Vets benefit concerts throughout New England to support organizations assisting Vets on issues related to PTSD\, addiction\, and homelessness.</span>
LOCATION:The Cut 177 Main St Gloucester\, MA 01930
UID:e.2981.43015
SEQUENCE:3
DTSTAMP:20260422T060447Z
URL:https://business.capeannchamber.com/events/details/rock-roll-circus-starring-james-montgomery-jon-butcher-and-danny-klein-43015
END:VEVENT

END:VCALENDAR
