BEGIN:VCALENDAR
VERSION:2.0
PRODID:-//ChamberMaster//Event Calendar 2.0//EN
METHOD:PUBLISH
X-PUBLISHED-TTL:P3D
REFRESH-INTERVAL:P3D
CALSCALE:GREGORIAN
BEGIN:VEVENT
DTSTART:20220213T190000Z
DTEND:20220213T200000Z
X-MICROSOFT-CDO-ALLDAYEVENT:FALSE
SUMMARY:Roald Dahl’s James and the Giant Peach Jr.
DESCRIPTION:Gloucester Stage Youth Company presents a musical production of Roald Dahl's James and the Giant Peach Jr. \nWhen young James is sent by his conniving aunts to chop down their old fruit tree\, he discovers magic crocodile tongues that launches a journey of enormous proportions. Suddenly\, James finds himself in the center of the gigantic peach\, among human-sized insects with equally oversized personalities\, but after it falls from the tree and rolls into the ocean\, the group faces danger\, sharks\, and plenty of disagreements. Thanks to James' quick wit and creative thinking\, the residents learn to live and work together as a family. The dangerous voyage is a success\, but the adventure takes a whole new twist once the big peach lands in the Big Apple.\n\n\n\nPerfect for families with children ages 6+\n\nShow Approx Run Time:\n\n55 min\, no intermission
X-ALT-DESC;FMTTYPE=text/html:<p><span style="font-size:16px"><span style="font-family:arial\,helvetica\,sans-serif"><strong>Gloucester Stage Youth Company presents a&nbsp\;musical production of Roald Dahl&rsquo\;s&nbsp\;<em>James and the Giant Peach Jr.&nbsp\;</em></strong></span></span></p>\n<span style="font-family:arial\,helvetica\,sans-serif"><span style="font-size:12px">When young James is sent by his conniving aunts to chop down their old fruit tree\, he discovers magic crocodile tongues that launches a journey of enormous proportions. Suddenly\, James finds himself in the center of the gigantic peach\, among human-sized insects with equally oversized personalities\, but after it falls from the tree and rolls into the ocean\, the group faces danger\, sharks\, and plenty of disagreements. Thanks to James&rsquo\; quick wit and creative thinking\, the residents learn to live and work together as a family. The dangerous voyage is a success\, but the adventure takes a whole new twist once the big peach lands in the Big Apple.</span></span><br />\n<br />\nPerfect for families with children ages 6+<br />\nShow Approx Run Time:<br />\n55 min\, no intermission
LOCATION:Gloucester Stage 267 East Main Street\, Gloucester\, MA 01930
UID:e.2981.21818
SEQUENCE:3
DTSTAMP:20260420T135211Z
URL:https://business.capeannchamber.com/events/details/roald-dahl-s-james-and-the-giant-peach-jr-02-13-2022-21818
END:VEVENT

END:VCALENDAR
