BEGIN:VCALENDAR
VERSION:2.0
PRODID:-//ChamberMaster//Event Calendar 2.0//EN
METHOD:PUBLISH
X-PUBLISHED-TTL:P3D
REFRESH-INTERVAL:P3D
CALSCALE:GREGORIAN
BEGIN:VEVENT
DTSTART:20241106T140000Z
DTEND:20241106T143000Z
X-MICROSOFT-CDO-ALLDAYEVENT:FALSE
SUMMARY:Ribbon Cutting Ceremony - YMCA John J Meany Senior Housing
DESCRIPTION:Please join us for a commemorative ribbon cutting ceremony for the John J. Meany Senior Affordable Housing. The program will include remarks by the YMCA of the North Shore President and CEO Chris Lovasco and CEO Emeritus John J. Meany\, tours of the property\, and light refreshments.
X-ALT-DESC;FMTTYPE=text/html:Please join us for a commemorative ribbon cutting ceremony for the John J. Meany Senior Affordable Housing. The program will include remarks by the YMCA of the North Shore President and CEO Chris Lovasco and CEO Emeritus John J. Meany\, tours of the property\, and light refreshments.&nbsp\;
LOCATION:71 Middle Street Gloucester\, MA 01930
UID:e.2981.33276
SEQUENCE:3
DTSTAMP:20260424T152715Z
URL:https://business.capeannchamber.com/events/details/ribbon-cutting-ceremony-ymca-john-j-meany-senior-housing-33276
END:VEVENT

END:VCALENDAR
