BEGIN:VCALENDAR
VERSION:2.0
PRODID:-//ChamberMaster//Event Calendar 2.0//EN
METHOD:PUBLISH
X-PUBLISHED-TTL:P3D
REFRESH-INTERVAL:P3D
CALSCALE:GREGORIAN
BEGIN:VEVENT
DTSTART:20250919T193000Z
DTEND:20250919T203000Z
X-MICROSOFT-CDO-ALLDAYEVENT:FALSE
SUMMARY:Ribbon Cutting Ceremony -Treetop Yoga 16th Anniversary
DESCRIPTION:Ribbon Cutting Ceremony at Treetop Yoga to Celebrate their 16th Anniversary \n\nCome celebrate Sweet 16 with Treetop Yoga! For 16 years\, they've been bringing mindful movement\, connection\, and community to Gloucester - now it's time to cut the ribbon and celebrate!  The fun doesn't stop there - come back on September 20th\, for a special Fall Equinox Open House.
X-ALT-DESC;FMTTYPE=text/html:<span style="font-size:16px\;"><span style="color:#2F4F4F\;"><strong>Ribbon Cutting Ceremony at Treetop Yoga to Celebrate their 16th Anniversary&nbsp\;</strong></span><br />\n<span style="font-family:arial\;">Come celebrate Sweet 16 with Treetop Yoga! For 16 years\, they&rsquo\;ve been bringing mindful movement\, connection\, and community to Gloucester - now it&rsquo\;s time to cut the ribbon and celebrate!&nbsp\; The fun doesn&rsquo\;t stop there - come back on September 20th\, for a special Fall Equinox Open House.</span><br />\n<br data-end="95" data-start="92" />\n&nbsp\;</span>
LOCATION:Treetop Yoga Studio
UID:e.2981.43120
SEQUENCE:3
DTSTAMP:20260425T011628Z
URL:https://business.capeannchamber.com/events/details/ribbon-cutting-ceremony-treetop-yoga-16th-anniversary-43120
END:VEVENT

END:VCALENDAR
