BEGIN:VCALENDAR
VERSION:2.0
PRODID:-//ChamberMaster//Event Calendar 2.0//EN
METHOD:PUBLISH
X-PUBLISHED-TTL:P3D
REFRESH-INTERVAL:P3D
CALSCALE:GREGORIAN
BEGIN:VEVENT
DTSTART:20251010T143000Z
DTEND:20251010T153000Z
X-MICROSOFT-CDO-ALLDAYEVENT:FALSE
SUMMARY:Ribbon Cutting Ceremony - Three Sisters Garden Project
DESCRIPTION:Ribbon Cutting Ceremony to Celebrate Three Sisters Garden Project's New Headquarters\n\n\n\nCelebrate the new headquarters of Three Sisters Garden Project at 1-2 Washington Street in downtown Ipswich. The space will serve as the hub for operations\, offices\, greenhouse\, and food distribution\, thanks to the support of Harborlight Homes. Join us as we cut the ribbon and welcome this exciting new chapter! \n\n\n\nCome back for their Open House on Saturday\, October 18th!
X-ALT-DESC;FMTTYPE=text/html:<span style="font-size:16px\;"><span style="font-family:arial\;"><strong>Ribbon Cutting Ceremony to Celebrate Three Sisters Garden Project&#39\;s New Headquarters</strong><br data-end="95" data-start="92" />\n<br data-end="108" data-start="105" />\nCelebrate the new headquarters of Three Sisters Garden Project at 1-2 Washington Street in downtown Ipswich. The space will serve as the hub for operations\, offices\, greenhouse\, and food distribution\, thanks to the support of Harborlight Homes. Join us as we cut the ribbon and welcome this exciting new chapter!&nbsp\;<br />\n<br />\nCome back for their Open House on Saturday\, October 18th!</span></span>
LOCATION:Three Sisters Garden Project
UID:e.2981.43041
SEQUENCE:3
DTSTAMP:20260425T024125Z
URL:https://business.capeannchamber.com/events/details/ribbon-cutting-ceremony-three-sisters-garden-project-43041
END:VEVENT

END:VCALENDAR
