BEGIN:VCALENDAR
VERSION:2.0
PRODID:-//ChamberMaster//Event Calendar 2.0//EN
METHOD:PUBLISH
X-PUBLISHED-TTL:P3D
REFRESH-INTERVAL:P3D
CALSCALE:GREGORIAN
BEGIN:VEVENT
DTSTART:20241218T210000Z
DTEND:20241218T230000Z
X-MICROSOFT-CDO-ALLDAYEVENT:FALSE
SUMMARY:Ribbon Cutting Ceremony - Salem Five Insurance Gloucester
DESCRIPTION:Join us for the Ribbon Cutting Ceremony and Open House to celebrate the Grand Opening of Salem Five Insurance's new location at 321 Gloucester Crossing.\n\nThe official ribbon-cutting ceremony will be held at 4:30 PM \n\nPrize raffle drawing at 5:30PM\n\n\n\nCome enjoy holiday bites and beverages\, meet the Salem Five Insurance team\, and learn about the range of insurance services available at their new location. \n\n\n\nPlease RSVP by December 12th to openhouse@salemfive.com. We hope you'll swing by and say hello!
X-ALT-DESC;FMTTYPE=text/html:<p>Join us for the Ribbon Cutting Ceremony and Open House to celebrate the Grand Opening of Salem Five Insurance&rsquo\;s new location at 321 Gloucester Crossing.</p>\n\n<p><strong>The official ribbon-cutting ceremony will be held at 4:30 PM&nbsp\;<br />\nPrize raffle drawing at 5:30PM</strong><br />\n<br />\nCome enjoy holiday bites and beverages\, meet the Salem Five Insurance team\, and learn about the range of insurance services available at their new location.&nbsp\;<br />\n<br />\n<strong><span class="fontstyle0">Please RSVP by </span><span class="fontstyle2">December 12th </span><span class="fontstyle0">to </span><span class="fontstyle0" style="color:rgb(33\,94\,158)\;">openhouse@salemfive.com. </span><span class="fontstyle0">We hope you&rsquo\;ll swing by and say hello!</span></strong></p>\n
LOCATION:Salem Five Insurance - Gloucester 321 Gloucester Crossing Gloucester\, MA 01930
UID:e.2981.34223
SEQUENCE:3
DTSTAMP:20260424T152713Z
URL:https://business.capeannchamber.com/events/details/ribbon-cutting-ceremony-salem-five-insurance-gloucester-34223
END:VEVENT

END:VCALENDAR
