BEGIN:VCALENDAR
VERSION:2.0
PRODID:-//ChamberMaster//Event Calendar 2.0//EN
METHOD:PUBLISH
X-PUBLISHED-TTL:P3D
REFRESH-INTERVAL:P3D
CALSCALE:GREGORIAN
BEGIN:VEVENT
DTSTART:20250821T150000Z
DTEND:20250821T153000Z
X-MICROSOFT-CDO-ALLDAYEVENT:FALSE
SUMMARY:Ribbon Cutting Ceremony - Nor'east Cleaners Manchester
DESCRIPTION:Ribbon Cutting Ceremony to Celebrate the New Ownership of Nor'east Cleaners\n\nFollowing the Gloucester celebration\, join us at Nor'east Cleaners in Manchester-by-the-Sea as we continue to celebrate their new ownership. Come meet the team\, learn about their continued commitment to exceptional garment care\, and help us officially welcome this next chapter for a trusted local business.
X-ALT-DESC;FMTTYPE=text/html:<span style="font-size:16px\;"><span style="font-family:arial\;"><span style="color:#DAA520\;"><strong>Ribbon Cutting Ceremony to Celebrate the New Ownership of Nor&#39\;east Cleaners</strong></span><br />\nFollowing the Gloucester celebration\, join us at Nor&rsquo\;east Cleaners in Manchester-by-the-Sea as we continue to celebrate their new ownership. Come meet the team\, learn about their continued commitment to exceptional garment care\, and help us officially welcome this next chapter for a trusted local business.</span></span>
LOCATION:Nor'east Cleaners - Manchester-by-the-Sea
UID:e.2981.42996
SEQUENCE:3
DTSTAMP:20260424T235923Z
URL:https://business.capeannchamber.com/events/details/ribbon-cutting-ceremony-nor-east-cleaners-manchester-42996
END:VEVENT

END:VCALENDAR
