BEGIN:VCALENDAR
VERSION:2.0
PRODID:-//ChamberMaster//Event Calendar 2.0//EN
METHOD:PUBLISH
X-PUBLISHED-TTL:P3D
REFRESH-INTERVAL:P3D
CALSCALE:GREGORIAN
BEGIN:VEVENT
DTSTART:20250821T140000Z
DTEND:20250821T143000Z
X-MICROSOFT-CDO-ALLDAYEVENT:FALSE
SUMMARY:Ribbon Cutting Ceremony - Nor'east Cleaners Gloucester
DESCRIPTION:Ribbon Cutting Ceremony to Celebrate the New Ownership of Nor'east Cleaners\n\nCome help us celebrate the new ownership of Nor'east Cleaners in Gloucester! The new owners are excited to continue this trusted local business's tradition of top-notch garment care and friendly service. We'll cut the ribbon\, snap some photos\, and then head straight to their Manchester location for round two of the celebration. Two ribbon cuttings in one day   don't miss it!
X-ALT-DESC;FMTTYPE=text/html:<span style="font-size:16px\;"><span style="font-family:arial\;"><span style="color:#DAA520\;"><strong>Ribbon Cutting Ceremony to Celebrate the New Ownership of Nor&#39\;east Cleaners</strong></span><br />\nCome help us celebrate the new ownership of Nor&#39\;east Cleaners&nbsp\;in Gloucester! The new owners are excited to continue this trusted local business&rsquo\;s tradition of top-notch garment care and friendly service. We&rsquo\;ll cut the ribbon\, snap some photos\, and then head straight to their Manchester location for round two of the celebration. Two ribbon cuttings in one day &mdash\; don&rsquo\;t miss it!</span></span>
LOCATION:Nor'east Cleaners - Gloucester
UID:e.2981.42995
SEQUENCE:3
DTSTAMP:20260424T235842Z
URL:https://business.capeannchamber.com/events/details/ribbon-cutting-ceremony-nor-east-cleaners-gloucester-42995
END:VEVENT

END:VCALENDAR
