BEGIN:VCALENDAR
VERSION:2.0
PRODID:-//ChamberMaster//Event Calendar 2.0//EN
METHOD:PUBLISH
X-PUBLISHED-TTL:P3D
REFRESH-INTERVAL:P3D
CALSCALE:GREGORIAN
BEGIN:VEVENT
DTSTART:20221201T203000Z
DTEND:20221201T210000Z
X-MICROSOFT-CDO-ALLDAYEVENT:FALSE
SUMMARY:Ribbon Cutting Ceremony - M&T Bank
DESCRIPTION:Join the Greater Cape Ann Chamber of Commerce as we celebrate the rebranding of M&T Bank in Manchester-by-the-Sea. Previously People's United Bank\, M&T Bank hopes to continue to foster strong banking relationships with their customers from across our region.
X-ALT-DESC;FMTTYPE=text/html:Join the Greater Cape Ann Chamber of Commerce as we celebrate the rebranding of M&amp\;T Bank in Manchester-by-the-Sea. Previously People&#39\;s United Bank\, M&amp\;T Bank hopes to continue to foster strong banking relationships with their customers from across our region.&nbsp\;
LOCATION:M&T Bank 11 Summer St\, Manchester-by-the-Sea\, MA 01944
UID:e.2981.23295
SEQUENCE:3
DTSTAMP:20260424T090304Z
URL:https://business.capeannchamber.com/events/details/ribbon-cutting-ceremony-m-t-bank-23295
END:VEVENT

END:VCALENDAR
