BEGIN:VCALENDAR
VERSION:2.0
PRODID:-//ChamberMaster//Event Calendar 2.0//EN
METHOD:PUBLISH
X-PUBLISHED-TTL:P3D
REFRESH-INTERVAL:P3D
CALSCALE:GREGORIAN
BEGIN:VEVENT
DTSTART:20220121T180000Z
DTEND:20220121T183000Z
X-MICROSOFT-CDO-ALLDAYEVENT:FALSE
SUMMARY:Ribbon Cutting Ceremony - Happy Humpback Cafe
DESCRIPTION:Join the Greater Cape Ann Chamber of Commerce to celebrate the grand opening of Happy Humpback Cafe. Now open in Gloucester's historic village of Magnolia\, Happy Humpback Cafe is serving up delicious breakfast and lunch offerings. Come celebrate and welcome Happy Humpback to our business community.
X-ALT-DESC;FMTTYPE=text/html:Join the Greater Cape Ann Chamber of Commerce to celebrate the grand opening of Happy Humpback Cafe. Now open in Gloucester&#39\;s historic village of Magnolia\, Happy Humpback Cafe is serving up delicious breakfast and lunch offerings. Come celebrate and welcome Happy Humpback to our business community.&nbsp\;
LOCATION:Happy Humpback Cafe 2 Lexington Ave\, Gloucester
UID:e.2981.21781
SEQUENCE:3
DTSTAMP:20260424T100559Z
URL:https://business.capeannchamber.com/events/details/ribbon-cutting-ceremony-happy-humpback-cafe-21781
END:VEVENT

END:VCALENDAR
