BEGIN:VCALENDAR
VERSION:2.0
PRODID:-//ChamberMaster//Event Calendar 2.0//EN
METHOD:PUBLISH
X-PUBLISHED-TTL:P3D
REFRESH-INTERVAL:P3D
CALSCALE:GREGORIAN
BEGIN:VEVENT
DTSTART:20250807T183000Z
DTEND:20250807T190000Z
X-MICROSOFT-CDO-ALLDAYEVENT:FALSE
SUMMARY:Ribbon Cutting Ceremony - Grand Opening of Sea Smoke Studio
DESCRIPTION:Sea Smoke Studio Grand Opening Ribbon Cutting Ceremony\n\nJoin us for the Grand Opening of Sea Smoke Studio\n\nWe are thrilled to invite you to celebrate the ribbon cutting ceremony for Sea Smoke Studio\, the newest artistic haven in the heart of Magnolia\, Gloucester\, Massachusetts. This momentous occasion marks the official opening of artist Nancy LeGendre's creative sanctuary\, where inspiration meets the timeless beauty of Cape Ann's coastal landscape.\n\n\n\nArtist Nancy LeGendre opens her doors to the community\, offering visitors a glimpse into her creative world. The studio will showcase her works\, capturing the ever-changing moods of the sea and the rugged beauty of the North Shore through her distinctive artistic vision.
X-ALT-DESC;FMTTYPE=text/html:<h1 class="text-2xl font-bold mt-1 text-text-100">Sea Smoke Studio Grand Opening Ribbon Cutting Ceremony</h1>\n\n<p class="whitespace-normal break-words"><span style="font-size:16px\;"><strong>Join us for the Grand Opening of Sea Smoke Studio</strong></span></p>\n\n<p class="whitespace-normal break-words"><span style="font-size:16px\;">We are thrilled to invite you to celebrate the ribbon cutting ceremony for <strong>Sea Smoke Studio</strong>\, the newest artistic haven in the heart of Magnolia\, Gloucester\, Massachusetts. This momentous occasion marks the official opening of artist <strong>Nancy LeGendre&#39\;s</strong> creative sanctuary\, where inspiration meets the timeless beauty of Cape Ann&#39\;s coastal landscape.<br />\n<br />\nArtist Nancy LeGendre opens her doors to the community\, offering visitors a glimpse into her creative world. The studio will showcase her&nbsp\;works\, capturing the ever-changing moods of the sea and the rugged beauty of the North Shore through her distinctive artistic vision.</span></p>\n
LOCATION:Sea Smoke Studio 15 Lexington Avenue Unit #14 Gloucester\, MA 01930
UID:e.2981.37433
SEQUENCE:3
DTSTAMP:20260425T000204Z
URL:https://business.capeannchamber.com/events/details/ribbon-cutting-ceremony-grand-opening-of-sea-smoke-studio-37433
END:VEVENT

END:VCALENDAR
