BEGIN:VCALENDAR
VERSION:2.0
PRODID:-//ChamberMaster//Event Calendar 2.0//EN
METHOD:PUBLISH
X-PUBLISHED-TTL:P3D
REFRESH-INTERVAL:P3D
CALSCALE:GREGORIAN
BEGIN:VEVENT
DTSTART:20250904T170000Z
DTEND:20250905T000000Z
X-MICROSOFT-CDO-ALLDAYEVENT:FALSE
SUMMARY:Ribbon Cutting Ceremony - Gordon Curtis Fine Art Gallery
DESCRIPTION:Ribbon Cutting Ceremony for Gordon Curtis Fine Art Gallery\n\nGordon Curtis invites the public to Gordon Curtis Fine Art Gallery on Thursday\, September 4th\, for the official ribbon cutting at 1:00 PM and artist reception from 6:00 8:00 PM. Located in downtown Gloucester at 206 Main Street\, the event will feature remarks and a ribbon-cutting ceremony with Gloucester Mayor Greg Verga\, followed by an open house and reception with the artist. \n\n \n\nCome experience a highly unique form of art that reflects Cape Ann's stunning natural beauty at the intersection of ocean\, wind\, sun\, sand\, stone and driftwood. Guests are invited to meet Gordon in person\, explore his latest driftwood sculptures up close\, and learn more about the intuitive process behind each piece. Light refreshments will be served\, and the atmosphere will be one of warmth\, curiosity\, and creative exchange.\n\n \n\nWhether you're an art collector\, nature lover\, or simply seeking something unexpected and moving you're welcome here. Admission is free. Come see what treasures the ocean left behind!
X-ALT-DESC;FMTTYPE=text/html:<span style="font-size:16px\;"><span style="font-family:arial\;"><span style="color:#8B4513\;"><strong>Ribbon Cutting Ceremony for Gordon Curtis Fine Art Gallery</strong></span></span></span><br />\n<span style="font-family: arial\; font-size: 14px\;">Gordon Curtis invites the public to Gordon Curtis Fine Art Gallery on</span><strong style="font-family: arial\; font-size: 14px\;">&nbsp\;Thursday\, September 4th\,</strong><span style="font-family: arial\; font-size: 14px\;">&nbsp\;for the official ribbon cutting at 1:00 PM and artist reception from 6:00&ndash\;8:00 PM. Located in downtown Gloucester at 206 Main Street\, the event will feature remarks and a ribbon-cutting ceremony with Gloucester Mayor Greg Verga\, followed by an open house and reception with the artist.&nbsp\;</span><br style="font-family: arial\; font-size: 14px\;" />\n<span style="font-family: arial\; font-size: 14px\;">&nbsp\;</span><br style="font-family: arial\; font-size: 14px\;" />\n<span style="font-family: arial\; font-size: 14px\;">Come experience a highly unique form of art that reflects Cape Ann&rsquo\;s stunning natural beauty at the intersection of ocean\, wind\, sun\, sand\, stone and driftwood. Guests are invited to meet Gordon in person\, explore his latest driftwood sculptures up close\, and learn more about the intuitive process behind each piece. Light refreshments will be served\, and the atmosphere will be one of warmth\, curiosity\, and creative exchange.</span><br style="font-family: arial\; font-size: 14px\;" />\n<span style="font-family: arial\; font-size: 14px\;">&nbsp\;</span><br style="font-family: arial\; font-size: 14px\;" />\n<span style="font-family: arial\; font-size: 14px\;">Whether you&rsquo\;re an art collector\, nature lover\, or simply seeking something unexpected and moving&mdash\;you&rsquo\;re welcome here. Admission is free. Come see what treasures the ocean left behind!</span><span style="font-size:16px\;"><span style="font-family:arial\;">&nbsp\;</span></span>
LOCATION:Gordon Curtis Fine Art Gallery
UID:e.2981.43116
SEQUENCE:3
DTSTAMP:20260425T011351Z
URL:https://business.capeannchamber.com/events/details/ribbon-cutting-ceremony-gordon-curtis-fine-art-gallery-43116
END:VEVENT

END:VCALENDAR
