BEGIN:VCALENDAR
VERSION:2.0
PRODID:-//ChamberMaster//Event Calendar 2.0//EN
METHOD:PUBLISH
X-PUBLISHED-TTL:P3D
REFRESH-INTERVAL:P3D
CALSCALE:GREGORIAN
BEGIN:VEVENT
DTSTART:20250903T160000Z
DTEND:20250903T170000Z
X-MICROSOFT-CDO-ALLDAYEVENT:FALSE
SUMMARY:Ribbon Cutting Ceremony - Gloucester Daily Times
DESCRIPTION:Ribbon Cutting Ceremony to Celebrate the New Location of Gloucester Daily Times\n\nJoin us as we celebrate the Gloucester Daily Times in their new home with a special Ribbon Cutting Ceremony. Come meet the team and help us congratulate them as they continue their long tradition of serving our community.
X-ALT-DESC;FMTTYPE=text/html:<span style="font-size:16px\;"><strong>Ribbon Cutting Ceremony to Celebrate the New Location of Gloucester Daily Times</strong><br data-end="95" data-start="92" />\nJoin us as we celebrate the Gloucester Daily Times in their new home with a special Ribbon Cutting Ceremony. Come meet the team and help us congratulate them as they continue their long tradition of serving our community.</span>
LOCATION:Gloucester Daily Times
UID:e.2981.43007
SEQUENCE:3
DTSTAMP:20260422T091537Z
URL:https://business.capeannchamber.com/events/details/ribbon-cutting-ceremony-gloucester-daily-times-43007
END:VEVENT

END:VCALENDAR
