BEGIN:VCALENDAR
VERSION:2.0
PRODID:-//ChamberMaster//Event Calendar 2.0//EN
METHOD:PUBLISH
X-PUBLISHED-TTL:P3D
REFRESH-INTERVAL:P3D
CALSCALE:GREGORIAN
BEGIN:VEVENT
DTSTART:20251024T150000Z
DTEND:20251024T160000Z
X-MICROSOFT-CDO-ALLDAYEVENT:FALSE
SUMMARY:Ribbon Cutting Ceremony - Aubuchon Ace Hardware Grand Re-Opening
DESCRIPTION:Aubuchon Ace Hardware\, Ipswich Grand Re-Opening Ribbon Cutting Ceremony\n\nPlease join us in celebrating the Grand Re-Opening of Aubuchon Ace Hardware in Ipswich. The Grand Re-Opening will be taking place all weekend\, kicking off with a special Ribbon Cutting Ceremony.\n\nThere will be chances to win grills\, outdoor power equipment and more with a Take a Chance wheel!
X-ALT-DESC;FMTTYPE=text/html:<h1 class="text-2xl font-bold mt-1 text-text-100">Aubuchon Ace Hardware\, Ipswich Grand Re-Opening Ribbon Cutting Ceremony</h1>\n\n<p class="whitespace-normal break-words"><span style="font-size:16px\;"><span style="font-family:arial\;">Please join us in celebrating the Grand Re-Opening of Aubuchon Ace Hardware in Ipswich.&nbsp\;The Grand Re-Opening will be taking place all weekend\, kicking off with a special Ribbon Cutting Ceremony.<br />\nThere will be chances to win grills\, outdoor power equipment and more with a Take a Chance wheel!</span></span></p>\n\n<p class="whitespace-normal break-words"><span style="font-size:16px\;"><span style="font-family:arial\;">&nbsp\;</span></span></p>\n
LOCATION:Newly Re-branded Aubuchon Ace Hardware
UID:e.2981.45164
SEQUENCE:3
DTSTAMP:20260425T024253Z
URL:https://business.capeannchamber.com/events/details/ribbon-cutting-ceremony-aubuchon-ace-hardware-grand-re-opening-45164
END:VEVENT

END:VCALENDAR
