BEGIN:VCALENDAR
VERSION:2.0
PRODID:-//ChamberMaster//Event Calendar 2.0//EN
METHOD:PUBLISH
X-PUBLISHED-TTL:P3D
REFRESH-INTERVAL:P3D
CALSCALE:GREGORIAN
BEGIN:VEVENT
DTSTART:20210813T213000Z
DTEND:20210813T220000Z
X-MICROSOFT-CDO-ALLDAYEVENT:FALSE
SUMMARY:Ribbon Cutting Ceremony and One Year Anniversary of Folly Cove Fine Art
DESCRIPTION:We invite you to join us in celebrating Folly Cove Fine Art\, an esteemed fine art gallery in Rockport\, with a ceremonial ribbon cutting. They are celebrating their one-year anniversary and the conclusion of their Plein Air Painting Festival at their beautiful 59 Main Street location. We are excited to celebrate this joyous occasion with them and hope you can join us
X-ALT-DESC;FMTTYPE=text/html:<span style="font-family:calibri\,sans-serif\;"><span style="font-size:11.0pt\;">We invite you to join us in celebrating Folly Cove Fine Art\, an esteemed fine art gallery in Rockport\, with a ceremonial ribbon cutting. They are celebrating their one-year anniversary and the conclusion of their Plein Air Painting Festival at their beautiful 59 Main Street location. We are excited to celebrate this joyous occasion with them and hope you can join us</span></span>
LOCATION:59 Main Street Rockport\, MA 01966
UID:e.2981.21198
SEQUENCE:3
DTSTAMP:20260424T212139Z
URL:https://business.capeannchamber.com/events/details/ribbon-cutting-ceremony-and-one-year-anniversary-of-folly-cove-fine-art-21198
END:VEVENT

END:VCALENDAR
