BEGIN:VCALENDAR
VERSION:2.0
PRODID:-//ChamberMaster//Event Calendar 2.0//EN
METHOD:PUBLISH
X-PUBLISHED-TTL:P3D
REFRESH-INTERVAL:P3D
CALSCALE:GREGORIAN
BEGIN:VEVENT
DTSTART:20221208T220000Z
DTEND:20221208T230000Z
X-MICROSOFT-CDO-ALLDAYEVENT:FALSE
SUMMARY:Ribbon Cutting Ceremony - Amanda Armstrong Group
DESCRIPTION:Join the Greater Cape Ann Chamber of Commerce as we celebrate the grand opening of Amanda Armstrong Group's new office in Magnolia with a ribbon cutting.\n\n\n\nAs residents of the North Shore\, the AAG team brings an insider's knowledge of the North Shore real estate market and latest sale trends\, enabling us to get you the best possible price for your home purchase or sale. They use their extensive network\, experience\, and resources to benefit sellers and buyers so they are always assured of our unfailing commitment and personal attention regardless of whether their property is at the low end or high end of the market.
X-ALT-DESC;FMTTYPE=text/html:<span style="font-size:14px\;"><span style="font-family:arial\;">Join the Greater Cape Ann Chamber of Commerce as we celebrate the grand opening of Amanda Armstrong Group&#39\;s new office in Magnolia with a ribbon cutting.<br />\n<br />\n<span style="color: rgb(0\, 0\, 0)\; letter-spacing: 1px\;">As residents of the North Shore\, the AAG team brings an insider&rsquo\;s knowledge of the North Shore real estate market and latest sale trends\, enabling us to get you the best possible price for your home purchase or sale. They use their extensive network\, experience\, and resources to benefit sellers and buyers so they are always assured of our unfailing commitment and personal attention regardless of whether their property is at the low end or high end of the market.</span></span></span>
LOCATION:35 Fuller Street\, Unit 100\, Magnolia
UID:e.2981.23217
SEQUENCE:3
DTSTAMP:20260424T090017Z
URL:https://business.capeannchamber.com/events/details/ribbon-cutting-ceremony-amanda-armstrong-group-23217
END:VEVENT

END:VCALENDAR
