BEGIN:VCALENDAR
VERSION:2.0
PRODID:-//ChamberMaster//Event Calendar 2.0//EN
METHOD:PUBLISH
X-PUBLISHED-TTL:P3D
REFRESH-INTERVAL:P3D
CALSCALE:GREGORIAN
BEGIN:VEVENT
DTSTART:20221117T223000Z
DTEND:20221118T003000Z
X-MICROSOFT-CDO-ALLDAYEVENT:FALSE
SUMMARY:Retirement Party for Peter Webber
DESCRIPTION:Please join us in honoring Peter Webber for his 17 years of dedication and service to the Greater Cape Ann Community.  We will be gathering at the Emerson Inn on November 17 from 5:30   7:30 PM\, light appetizers and a cash bar will be available. All are welcome! If you are not able to attend in person\, please feel free to send cards to the Chamber by November 15th (24 Harbor Loop\, Gloucester 01930). We will present these to Peter on behalf of the Greater Cape Ann Community that evening.  Please RSVP here.
X-ALT-DESC;FMTTYPE=text/html:<span style="background:white\;"><span style="color:#333333\;"><span style="font-family:arial\,sans-serif\;"><span style="font-size:10.0pt\;">Please join us in honoring Peter Webber for his 17 years of dedication and service to the Greater Cape Ann Community.&nbsp\; </span></span></span></span><span style="background:white\;"><span style="color:black\;"><span style="font-family:arial\,sans-serif\;"><span style="font-size:10.0pt\;">We will be gathering at the Emerson Inn on November 17 from 5:30 &ndash\; 7:30 PM\, light appetizers and a cash bar will be available. </span></span></span></span><span style="background:white\;"><span style="color:#333333\;"><span style="font-family:arial\,sans-serif\;"><span style="font-size:10.0pt\;">All are welcome! If you are not able to attend in person\, please feel free to send cards to the Chamber by November 15th (24 Harbor Loop\, Gloucester 01930). We will present these to Peter on behalf of the Greater Cape Ann Community that evening.&nbsp\; <a href="https://business.capeannchamber.com/events/details/retirement-party-for-peter-webber-23181?calendarMonth=2022-11-01">Please RSVP here</a>.</span></span></span></span>
LOCATION:The Emerson Inn 1 Cathedral Ave Rockport\, MA 01966
UID:e.2981.23181
SEQUENCE:3
DTSTAMP:20260424T123129Z
URL:https://business.capeannchamber.com/events/details/retirement-party-for-peter-webber-23181
END:VEVENT

END:VCALENDAR
