BEGIN:VCALENDAR
VERSION:2.0
PRODID:-//ChamberMaster//Event Calendar 2.0//EN
METHOD:PUBLISH
X-PUBLISHED-TTL:P3D
REFRESH-INTERVAL:P3D
CALSCALE:GREGORIAN
BEGIN:VEVENT
DTSTART;VALUE=DATE:20260509
DTEND;VALUE=DATE:20260510
TRANSP:TRANSPARENT
X-MICROSOFT-CDO-ALLDAYEVENT:TRUE
SUMMARY:Restorative Yoga with Reiki and Sound Healing
DESCRIPTION:Join Madison Biondo and Steve Lacey in this 2-hour immersion that combines Restorative Yoga\, Reiki\, and therapeutic Sound Healing to support the nervous system and create deep relaxation.\n\n\n\nAfter opening with a centering meditation and breathwork\, Madison will guide you through a series of supported postures designed to release tension and shift the body into rest. While you settle in\, she will offer individualized Reiki to promote energetic balance.\n\n\n\nTo complete the experience\, Steve will guide you through a Sound Healing journey\, surrounding you in soothing vibrations that promote profound relaxation and inner harmony. You will also experience the vibrational energy of sound healing with the added bonus of receiving the bowl to rest on your body during restorative postures.\n\n\n\nSpace is limited to ensure personal attention and a serene environment so that everyone leaves feeling balanced\, cared for\, and deeply restored.
X-ALT-DESC;FMTTYPE=text/html:<span style="font-family:tahoma"><span style="color:rgb(47\, 51\, 52)\; font-size:16px">Join Madison Biondo and Steve Lacey in this 2-hour immersion that combines Restorative Yoga\, Reiki\, and therapeutic Sound Healing to support the nervous system and create deep relaxation.<br />\n<br />\nAfter opening with a centering meditation and breathwork\, Madison will guide you through a series of supported postures designed to release tension and shift the body into rest. While you settle in\, she will offer individualized Reiki to promote energetic balance.<br />\n<br />\nTo complete the experience\, Steve will guide you through a Sound Healing journey\, surrounding you in soothing vibrations that promote profound relaxation and inner harmony. You will also experience the vibrational energy of sound healing with the added bonus of receiving the bowl to rest on your body during restorative postures.<br />\n<br />\nSpace is limited to ensure personal attention and a serene environment&mdash\;so that everyone leaves feeling balanced\, cared for\, and deeply restored.</span></span>
LOCATION:Treetop Yoga 3A Pond Road Gloucester\, MA 01930
UID:e.2981.46946
SEQUENCE:3
DTSTAMP:20260426T025054Z
URL:https://business.capeannchamber.com/events/details/restorative-yoga-with-reiki-and-sound-healing-46946
END:VEVENT

END:VCALENDAR
