BEGIN:VCALENDAR
VERSION:2.0
PRODID:-//ChamberMaster//Event Calendar 2.0//EN
METHOD:PUBLISH
X-PUBLISHED-TTL:P3D
REFRESH-INTERVAL:P3D
CALSCALE:GREGORIAN
BEGIN:VEVENT
DTSTART:20260729T123000Z
DTEND:20260729T193000Z
X-MICROSOFT-CDO-ALLDAYEVENT:FALSE
SUMMARY:Resilient Coasts: Using Local Phenomena to Understand Climate Solutions
DESCRIPTION:3-Day Summer Professional Development Institute for Grades 6-12 Educators\n\n\n\nJoin us for a place-based professional learning experience that integrates coastal science and conservation at Crane Beach. This multi-day summer program invites you and peer educators to explore active restoration and conservation projects through hands-on field experiences and direct collaboration with scientists. Participating educators will engage with real datasets\, discuss ongoing research\, and examine how ecosystems respond to human impact over time. From the beach to the salt marsh\, educators will experience how authentic fieldwork and community science can deepen student understanding of environmental change. Designed with the Science and Engineering Practices in mind\, this program equips teachers with meaningful examples\, data\, and pedagogical approach to connect local science to broader standards-aligned concepts and inquiry.
X-ALT-DESC;FMTTYPE=text/html:<div>\n<p style="text-align:center">&nbsp\;3-Day Summer Professional Development Institute for Grades 6-12 Educators</p>\n</div>\n\n<div>\n<p>Join us for a place-based professional learning experience that integrates coastal science and conservation at Crane Beach. This multi-day summer program invites you and peer educators to explore active restoration and conservation projects through hands-on field experiences and direct collaboration with scientists. Participating educators will engage with real datasets\, discuss ongoing research\, and examine how ecosystems respond to human impact over time. From the beach to the salt marsh\, educators will experience how authentic fieldwork and community science can deepen student understanding of environmental change. Designed with the Science and Engineering Practices in mind\, this program equips teachers with meaningful examples\, data\, and pedagogical approach to connect local science to broader standards-aligned concepts and inquiry.</p>\n</div>\n
LOCATION:Crane Beach\, The Trustees of Reservations - 310 Argilla Rd\, Ipswich MA
UID:e.2981.46413
SEQUENCE:3
DTSTAMP:20260424T234128Z
URL:https://business.capeannchamber.com/events/details/resilient-coasts-using-local-phenomena-to-understand-climate-solutions-07-29-2026-46413
END:VEVENT

END:VCALENDAR
