BEGIN:VCALENDAR
VERSION:2.0
PRODID:-//ChamberMaster//Event Calendar 2.0//EN
METHOD:PUBLISH
X-PUBLISHED-TTL:P3D
REFRESH-INTERVAL:P3D
CALSCALE:GREGORIAN
BEGIN:VEVENT
DTSTART:20250821T160000Z
DTEND:20250914T210000Z
X-MICROSOFT-CDO-ALLDAYEVENT:FALSE
SUMMARY:Rephrasing\, Curated by Janice Brand
DESCRIPTION:Rephrasing\n\nCurated by Janice Brand\n\nExhibit Dates: August 21   September 14 \n\nOpening Reception: Thursday\, August 21\, 4-7 pm\n\nClosing Reception: Sunday\, September 14\, 2-5pm \n\nGallery Hours: Sunday & Monday\, 12-5pm\; Thursday   Saturday\, 12-7pm\n\nRephrasing\, an exhibition curated by Janice Brand\, encompasses the mixed-media work of Shira Karman\, Tobi Klein\, Helen Tory\, and Patricia Wellenkamp\, who utilize the concepts of adaptation and revision. This show\, the fifth for the 2025 season at Cove Gallery\, takes into consideration memory\, family\, story-telling\, and definitely redefinition\, or rephrasing.\n\nShira Karman focuses on fragments that relate to some other time or place\, whether known or unknown. She is interested in how these fragments tell a story that she may know or hope to uncover. \n\nTobi Klein explores mono-printing\, collage\, and other mixed-media techniques\, taking inspiration from the continual shifting of light\, color\, and pattern of the granite quarries and the sea. She builds a story\, inviting viewers to peel back the layers and look below the surface.\n\nHelen Tory uses diverse media to express her connection with birds described in her father's 1930s nature diaries. A variety of paint\, mark-making\, torn papers\, and string elicit each bird's particular characteristics.\n\nPatricia Wellenkamp uses a series of carved linoleum blocks to print on cotton and other fabrics. She incorporates embroidery\, paper\, and other elements to add ornamentation and complexity to images that might come from an ancestor's dress\, dahlias in her garden or imagined landscapes.
X-ALT-DESC;FMTTYPE=text/html:<p><strong><span style="font-size:21px"><em>Rephrasing</em></span></strong><br />\n<em>Curated by Janice Brand</em><br />\n<strong>Exhibit Dates:</strong>&nbsp\;August 21 &ndash\; September 14&nbsp\;<br />\n<strong>Opening Reception:</strong>&nbsp\;Thursday\, August 21\, 4-7 pm<br />\n<strong>Closing Reception:</strong> Sunday\, September 14\, 2-5pm&nbsp\;<br />\n<strong>Gallery Hours:</strong>&nbsp\;Sunday &amp\; Monday\, 12-5pm\; Thursday &ndash\; Saturday\, 12-7pm</p>\n\n<p><em><strong>Rephrasing</strong></em><strong>\,</strong>&nbsp\;an exhibition curated by Janice Brand\, encompasses the mixed-media work of&nbsp\;<em>Shira Karman\, Tobi Klein\, Helen Tory\,&nbsp\;</em>and&nbsp\;<em>Patricia Wellenkamp</em><strong>\,</strong>&nbsp\;who utilize the concepts of adaptation and revision. This show\, the fifth for the 2025 season at Cove Gallery\, takes into consideration memory\, family\, story-telling\, and definitely redefinition\, or rephrasing.</p>\n\n<p><strong>Shira Karman</strong>&nbsp\;focuses on fragments that relate to some other time or place\, whether known or unknown. She is interested in how these fragments tell a story that she may know or hope to uncover.&nbsp\;</p>\n\n<p><strong>Tobi Klein</strong>&nbsp\;explores mono-printing\, collage\, and other mixed-media techniques\, taking inspiration from the continual shifting of light\, color\, and pattern of the granite quarries and the sea. She builds a story\, inviting viewers to peel back the layers and look below the surface.</p>\n\n<p><strong>Helen Tory</strong>&nbsp\;uses diverse media to express her connection with birds described in her father&rsquo\;s 1930s nature diaries. A variety of paint\, mark-making\, torn papers\, and string elicit each bird&rsquo\;s particular characteristics.</p>\n\n<p><strong>Patricia Wellenkamp</strong>&nbsp\;uses a series of carved linoleum blocks to print on cotton and other fabrics. She incorporates embroidery\, paper\, and other elements to add ornamentation and complexity to images that might come from an ancestor&rsquo\;s dress\, dahlias in her garden or imagined landscapes.</p>\n
LOCATION:Cove Gallery 37 Rocky Neck Avenue\, Gloucester
UID:e.2981.41384
SEQUENCE:3
DTSTAMP:20260422T091410Z
URL:https://business.capeannchamber.com/events/details/rephrasing-curated-by-janice-brand-41384
END:VEVENT

END:VCALENDAR
