BEGIN:VCALENDAR
VERSION:2.0
PRODID:-//ChamberMaster//Event Calendar 2.0//EN
METHOD:PUBLISH
X-PUBLISHED-TTL:P3D
REFRESH-INTERVAL:P3D
CALSCALE:GREGORIAN
BEGIN:VEVENT
DTSTART:20241109T150000Z
DTEND:20241109T230000Z
X-MICROSOFT-CDO-ALLDAYEVENT:FALSE
SUMMARY:Renaissance Faire Day at Hammond Castle Museum
DESCRIPTION:Rain or Shine!\n\n*The day's finalized schedule of events will be posted on our Calendar of Events as we get closer to the event date.\n\n\n\nStep back in time at our Renaissance Faire Day!\n\n\n\nImmerse yourself in the enchanting world of medieval and Renaissance culture with live performances by The Harper & The Minstrel and the L.I.A.R.S. (Ladies of Integrity\, Aristocracy\, Repute\, and Society)\, offering a mesmerizing blend of medieval\, Renaissance\, and Celtic music as they stroll through the Museum and grounds.\n\n\n\nWitness the thrilling spectacle of armored combat as The Brotherhood of the Arrow and Sword presents high-energy fight demonstrations\, bringing the medieval battlefield to life before your eyes. This educational and entertaining event offers a unique opportunity to explore historical European martial arts and experience the vibrant tapestry of medieval life.\n\n\n\nEnjoy a variety of food trucks offering delicious fare for purchase\, explore the Museum at your own pace with self-guided tours\, and take advantage of free off-site parking at Stage Fort Park with continuously running shuttles to and from the Museum. (On-site parking only permitted for those with mobility issues. ) The last shuttles leave the Museum at 6:00 pm. The food trucks are open from 10 am to 5:30 pm.\n\n\n\nKids ages 4 and under are free but do require a reserved ticket\, and kids ages 12 and under are only $10! Hammond Castle Museum Member savings apply.\n\n\n\nDon't miss this extraordinary day of music\, pageantry\, and living history at Hammond Castle Museum where the past comes alive in spectacular fashion!
X-ALT-DESC;FMTTYPE=text/html:<strong><em><span style="background-color:rgb(255\, 255\, 255)\; color:rgb(24\, 24\, 24)\; font-family:-apple-system\,blinkmacsystemfont\,segoe ui\,roboto\,helvetica\,arial\,sans-serif\,apple color emoji\,segoe ui emoji\,segoe ui symbol\; font-size:14px">Rain or Shine!</span></em></strong><br />\n<span style="background-color:rgb(255\, 255\, 255)\; color:rgb(24\, 24\, 24)\; font-family:-apple-system\,blinkmacsystemfont\,segoe ui\,roboto\,helvetica\,arial\,sans-serif\,apple color emoji\,segoe ui emoji\,segoe ui symbol\; font-size:14px">*The day&#39\;s finalized schedule of events will be posted on our Calendar of Events as we get closer to the event date.</span><br />\n<br />\n<strong><span style="background-color:rgb(255\, 255\, 255)\; color:rgb(24\, 24\, 24)\; font-family:-apple-system\,blinkmacsystemfont\,segoe ui\,roboto\,helvetica\,arial\,sans-serif\,apple color emoji\,segoe ui emoji\,segoe ui symbol\; font-size:14px">Step back in time at our Renaissance Faire Day!</span></strong><br />\n<br />\n<span style="background-color:rgb(255\, 255\, 255)\; color:rgb(24\, 24\, 24)\; font-family:-apple-system\,blinkmacsystemfont\,segoe ui\,roboto\,helvetica\,arial\,sans-serif\,apple color emoji\,segoe ui emoji\,segoe ui symbol\; font-size:14px">Immerse yourself in the enchanting world of medieval and Renaissance culture with live performances by The Harper &amp\; The Minstrel and the L.I.A.R.S. (Ladies of Integrity\, Aristocracy\, Repute\, and Society)\, offering a mesmerizing blend of medieval\, Renaissance\, and Celtic music as they stroll through the Museum and grounds.</span><br />\n<br />\n<span style="background-color:rgb(255\, 255\, 255)\; color:rgb(24\, 24\, 24)\; font-family:-apple-system\,blinkmacsystemfont\,segoe ui\,roboto\,helvetica\,arial\,sans-serif\,apple color emoji\,segoe ui emoji\,segoe ui symbol\; font-size:14px">Witness the thrilling spectacle of armored combat as The Brotherhood of the Arrow and Sword presents high-energy fight demonstrations\, bringing the medieval battlefield to life before your eyes. This educational and entertaining event offers a unique opportunity to explore historical European martial arts and experience the vibrant tapestry of medieval life.</span><br />\n<br />\n<span style="background-color:rgb(255\, 255\, 255)\; color:rgb(24\, 24\, 24)\; font-family:-apple-system\,blinkmacsystemfont\,segoe ui\,roboto\,helvetica\,arial\,sans-serif\,apple color emoji\,segoe ui emoji\,segoe ui symbol\; font-size:14px">Enjoy a variety of food trucks offering delicious fare for purchase\, explore the Museum at your own pace with self-guided tours\, and take advantage of free off-site parking at Stage Fort Park with continuously running shuttles to and from the Museum. (On-site parking only permitted for those with mobility issues. ) The last shuttles leave the Museum at 6:00 pm. The food trucks are open from 10 am to 5:30 pm.</span><br />\n<br />\n<span style="background-color:rgb(255\, 255\, 255)\; color:rgb(24\, 24\, 24)\; font-family:-apple-system\,blinkmacsystemfont\,segoe ui\,roboto\,helvetica\,arial\,sans-serif\,apple color emoji\,segoe ui emoji\,segoe ui symbol\; font-size:14px">Kids ages 4 and under are free but do require a reserved ticket\, and kids ages 12 and under are only $10! Hammond Castle Museum Member savings apply.</span><br />\n<br />\n<span style="background-color:rgb(255\, 255\, 255)\; color:rgb(24\, 24\, 24)\; font-family:-apple-system\,blinkmacsystemfont\,segoe ui\,roboto\,helvetica\,arial\,sans-serif\,apple color emoji\,segoe ui emoji\,segoe ui symbol\; font-size:14px">Don&rsquo\;t miss this extraordinary day of music\, pageantry\, and living history at Hammond Castle Museum&mdash\;where the past comes alive in spectacular fashion!</span>
LOCATION:Hammond Castle Museum 80 Hesperus Avenue Gloucester\, MA 01930
UID:e.2981.33099
SEQUENCE:3
DTSTAMP:20260424T164847Z
URL:https://business.capeannchamber.com/events/details/renaissance-faire-day-at-hammond-castle-museum-33099
END:VEVENT

END:VCALENDAR
