BEGIN:VCALENDAR
VERSION:2.0
PRODID:-//ChamberMaster//Event Calendar 2.0//EN
METHOD:PUBLISH
X-PUBLISHED-TTL:P3D
REFRESH-INTERVAL:P3D
CALSCALE:GREGORIAN
BEGIN:VEVENT
DTSTART:20221013T200000Z
DTEND:20221013T203000Z
X-MICROSOFT-CDO-ALLDAYEVENT:FALSE
SUMMARY:RemediChain: A New Kind of Medication Reclamation Program Webinar
DESCRIPTION:Join this 30-minute webinar to be introduced to RemediChain\, a platform that allows individuals to donate unused medications to patients in need. Using the platform when disposing of unused\, unneeded medications will allow you to help someone in need\, reduce medicinal waste\, and protect the environment. During the presentation\, you'll learn how to donate medications\, register as a patient in need\, and view the real-time inventory of available medications.?
X-ALT-DESC;FMTTYPE=text/html:<span style="font-family:sf pro text\,-apple-system\,system-ui\,roboto\,segoe ui\,helvetica\,arial\,sans-serif\,apple color emoji\,segoe ui emoji\,segoe ui symbol\; font-size:14px">Join this <a href="https://register.gotowebinar.com/rt/8111028428646788111">30-minute webinar</a> to be introduced to RemediChain\, a platform that allows individuals to donate unused medications to patients in need.&nbsp\;Using the platform when disposing of unused\, unneeded medications will allow you to help someone in need\, reduce medicinal waste\, and protect the environment. During the presentation\, you&#39\;ll learn how to donate medications\, register as a patient in need\, and view the real-time inventory of available medications.?</span>
LOCATION:Free webinar!
UID:e.2981.21744
SEQUENCE:3
DTSTAMP:20260424T140937Z
URL:https://business.capeannchamber.com/events/details/remedichain-a-new-kind-of-medication-reclamation-program-webinar-21744
END:VEVENT

END:VCALENDAR
