BEGIN:VCALENDAR
VERSION:2.0
PRODID:-//ChamberMaster//Event Calendar 2.0//EN
METHOD:PUBLISH
X-PUBLISHED-TTL:P3D
REFRESH-INTERVAL:P3D
CALSCALE:GREGORIAN
BEGIN:VEVENT
DTSTART:20251227T233000Z
DTEND:20251228T004500Z
X-MICROSOFT-CDO-ALLDAYEVENT:FALSE
SUMMARY:Reiki\, Meditation\, & Music in the Salt Cave on Saturday\, December 27th
DESCRIPTION:Elemental Energy Balancing in the Salt Cave: A 75-minute session that guides guests through the energies of Earth\, Air\, Fire\, and Water using Reiki\, tuning forks\, guided meditation\, music and natural elemental tools\, all within the calming\, detoxifying environment of the salt cave. This event includes a take home item. This experience supports deep energetic realignment and nervous system regulation\, without relying on intention-setting or mental processing just a gentle return to balance through sound\, energy\, and the elements.
X-ALT-DESC;FMTTYPE=text/html:<span style="color:rgba(0\,0\,0\,var(--O42jJQ\,1))"><u><strong>Elemental Energy Balancing in the Salt Cave:</strong></u> A 75-minute session that guides guests through the energies of </span><strong>Earth</strong><span style="color:rgba(0\,0\,0\,var(--O42jJQ\,1))">\, </span><strong>Air</strong><span style="color:rgba(0\,0\,0\,var(--O42jJQ\,1))">\, </span><strong>Fire</strong><span style="color:rgba(0\,0\,0\,var(--O42jJQ\,1))">\, and </span><strong>Water</strong><span style="color:rgba(0\,0\,0\,var(--O42jJQ\,1))"> using</span><strong> Reiki</strong><span style="color:rgba(0\,0\,0\,var(--O42jJQ\,1))">\, </span><strong>tuning forks</strong><span style="color:rgba(0\,0\,0\,var(--O42jJQ\,1))">\, </span><strong>guided meditation\, music</strong><span style="color:rgba(0\,0\,0\,var(--O42jJQ\,1))"> and </span><strong>natural elemental tools</strong><span style="color:rgba(0\,0\,0\,var(--O42jJQ\,1))">\, all within the calming\, detoxifying environment of the salt cave. </span><strong>This event includes a take home item.&nbsp\;</strong><span style="color:rgba(0\,0\,0\,var(--O42jJQ\,1))">This experience supports </span><strong>deep energetic realignment</strong><span style="color:rgba(0\,0\,0\,var(--O42jJQ\,1))"> and nervous system regulation\, without relying on intention-setting or mental processing just </span><strong>a gentle return to balance</strong><span style="color:rgba(0\,0\,0\,var(--O42jJQ\,1))"> through sound\, energy\, and the elements.</span>
LOCATION:Revive Wellness in the Salt Cave 232 Main St.\, Gloucester\, MA 01930
UID:e.2981.45490
SEQUENCE:3
DTSTAMP:20260422T044945Z
URL:https://business.capeannchamber.com/events/details/reiki-meditation-music-in-the-salt-cave-on-saturday-december-27th-45490
END:VEVENT

END:VCALENDAR
