BEGIN:VCALENDAR
VERSION:2.0
PRODID:-//ChamberMaster//Event Calendar 2.0//EN
METHOD:PUBLISH
X-PUBLISHED-TTL:P3D
REFRESH-INTERVAL:P3D
CALSCALE:GREGORIAN
BEGIN:VEVENT
DTSTART:20260711T180000Z
DTEND:20260711T210000Z
X-MICROSOFT-CDO-ALLDAYEVENT:FALSE
SUMMARY:Reflections on Friendship: Grade 8 Student Exhibition Opening Reception
DESCRIPTION:Join us for the opening reception of this year's collaborative installation by middle school students of Cape Ann including sixth grade students from Gloucester's O'Maley Innovation Middle School and 8th grade students at Rockport Middle School and the Manchester Essex Regional Middle School. Enjoy student work as well as the exhibit in the Janet & William Ellery James Center. All are invited! The Cape Ann Museum is proud to partner with Cape Ann Public schools to explore the art\, culture and history of this unique place.
X-ALT-DESC;FMTTYPE=text/html:Join us for the opening reception of this year&rsquo\;s collaborative installation by middle school students of Cape Ann including sixth grade students from Gloucester&rsquo\;s O&rsquo\;Maley Innovation Middle School and 8th grade students at Rockport Middle School and the Manchester Essex Regional Middle School. Enjoy student work as well as the exhibit in the Janet &amp\; William Ellery James Center. All are invited! The Cape Ann Museum is proud to partner with Cape Ann Public schools to explore the art\, culture and history of this unique place.
LOCATION:Janet & William Ellery James Center\, CAM Green 13 Poplar Street\, Gloucester\, MA 01930
UID:e.2981.46942
SEQUENCE:3
DTSTAMP:20260424T233516Z
URL:https://business.capeannchamber.com/events/details/reflections-on-friendship-grade-8-student-exhibition-opening-reception-46942
END:VEVENT

END:VCALENDAR
