BEGIN:VCALENDAR
VERSION:2.0
PRODID:-//ChamberMaster//Event Calendar 2.0//EN
METHOD:PUBLISH
X-PUBLISHED-TTL:P3D
REFRESH-INTERVAL:P3D
CALSCALE:GREGORIAN
BEGIN:VEVENT
DTSTART:20140503T210000Z
DTEND:20140503T230000Z
X-MICROSOFT-CDO-ALLDAYEVENT:FALSE
SUMMARY:Reception and Book Launch: Zygmund Jankowski\, A Celebration of Life
DESCRIPTION:Reception for the exhibition ''Zygmund Jankowski:  A Celebration of Life'' and the launch of a book of the images and words of this legendary Cape Ann painter and teacher.
X-ALT-DESC;FMTTYPE=text/html:Reception for the exhibition ''Zygmund Jankowski:  A Celebration of Life'' and the launch of a book of the images and words of this legendary Cape Ann painter and teacher.\n
LOCATION:189 Main Street\, Gloucester \, Ma 01930 Trident Gallery is in downtown Gloucester\, Massachusetts\, on Main Street at the corner of Duncan Street (which becomes Pleasant Street as it crosses Main). Click here for a map and notes on nearby parking.
UID:e.2981.1292
SEQUENCE:3
DTSTAMP:20260419T195239Z
URL:https://business.capeannchamber.com/events/details/reception-and-book-launch-zygmund-jankowski-a-celebration-of-life-05-03-2014-1292
END:VEVENT

END:VCALENDAR
