BEGIN:VCALENDAR
VERSION:2.0
PRODID:-//ChamberMaster//Event Calendar 2.0//EN
METHOD:PUBLISH
X-PUBLISHED-TTL:P3D
REFRESH-INTERVAL:P3D
CALSCALE:GREGORIAN
BEGIN:VEVENT
DTSTART:20260605T220000Z
DTEND:20260606T020000Z
X-MICROSOFT-CDO-ALLDAYEVENT:FALSE
SUMMARY:Queens at the Castle
DESCRIPTION:Get ready for a night of glitz\, glam\, and fierce performances in a setting like no other! Join us for Queens at the Castle\, a high-energy\, laugh-out-loud evening hosted by one of Boston's most iconic Queens and featuring three of the region's top drag performers.\n\n\n\nMeet Your Host: Kris Knievil\n\nA beloved fixture of Boston's drag scene since the late '90s\, Kris Knievil returns to the Great Hall as our Host of the Night! Kriis is known for her buxom blonde allure and commanding stage presence. As the program director at Boston's storied drag bar\, Jacques Cabaret\, Kris brings years of experience and charisma to the stage\, ensuring an evening of laughter and entertainment. bostonspiritmagazine.com\n\n\n\nFeaturing Performances By:\n\n\n\nAlana Thicc: Get ready for a performance that's as bold and dynamic as her name suggests. Alana Thicc returns\, bringing energy\, sass\, and a whole lot of talent to the stage\, promising to captivate the audience with every move.\n\n\n\nChanel the Angel: A glamorous queen with a heart of gold\, Chanel the Angel returns to our stage\, combining vintage Hollywood elegance with modern flair. Her performances are a blend of powerhouse vocals and cheeky humor\, making her a standout in the cabaret scene.\n\n\n\nDoriann Blanch: A Puerto Rican-born drag diva based in Boston\, known as The Beauty Enchantment\, Doriann is making her Queens at the Castle debut!  She is a prominent figure in the Boston scene at iconic parties like "Drag Me to Brunch" at Carrie Nation\," "LatinX Wednesdays" at Legacy and RuPaul's Drag Race viewing parties at Dani's Queer Bar.\n\n\n\nThis event is strictly 21 & Over. I.D. will be required upon admission.
X-ALT-DESC;FMTTYPE=text/html:<div>Get ready for a night of glitz\, glam\, and fierce performances in a setting like no other! Join us for Queens at the Castle\, a high-energy\, laugh-out-loud evening hosted by one of Boston&rsquo\;s most iconic Queens and featuring three of the region&#39\;s top drag performers.<br />\n<br />\nMeet Your Host: Kris Knievil<br />\nA beloved fixture of Boston&#39\;s drag scene since the late &#39\;90s\, Kris Knievil returns to the Great Hall as our Host of the Night! Kriis is known for her buxom blonde allure and commanding stage presence. As the program director at Boston&#39\;s storied drag bar\, Jacques Cabaret\, Kris brings years of experience and charisma to the stage\, ensuring an evening of laughter and entertainment.&nbsp\;<a href="http://bostonspiritmagazine.com/" style="color: rgb(17\, 85\, 204)\;" target="_blank">bostonspiritmagazine.com</a><br />\n<br />\nFeaturing Performances By:<br />\n<br />\nAlana Thicc: Get ready for a performance that&#39\;s as bold and dynamic as her name suggests. Alana Thicc returns\, bringing energy\, sass\, and a whole lot of talent to the stage\, promising to captivate the audience with every move.<br />\n<br />\nChanel the Angel: A glamorous queen with a heart of gold\, Chanel the Angel returns to our stage\, combining vintage Hollywood elegance with modern flair. Her performances are a blend of powerhouse vocals and cheeky humor\, making her a standout in the cabaret scene.<br />\n<br />\nDoriann Blanch: A Puerto Rican-born drag diva based in Boston\, known as The Beauty Enchantment\, Doriann is making her Queens at the Castle debut!&nbsp\; She is a prominent figure in the Boston scene at iconic parties like &quot\;Drag Me to Brunch&quot\; at Carrie Nation\,&quot\; &quot\;LatinX Wednesdays&quot\; at Legacy and RuPaul&#39\;s Drag Race viewing parties at Dani&#39\;s Queer Bar.<br />\n<br />\nThis event is strictly 21 &amp\; Over. I.D. will be required upon admission.&nbsp\;</div>\n
LOCATION:Hammond Castle Museum 80 Hesperus Avenue Gloucester\, MA 01930
UID:e.2981.47079
SEQUENCE:3
DTSTAMP:20260424T222205Z
URL:https://business.capeannchamber.com/events/details/queens-at-the-castle-06-05-2026-47079
END:VEVENT

END:VCALENDAR
