BEGIN:VCALENDAR
VERSION:2.0
PRODID:-//ChamberMaster//Event Calendar 2.0//EN
METHOD:PUBLISH
X-PUBLISHED-TTL:P3D
REFRESH-INTERVAL:P3D
CALSCALE:GREGORIAN
BEGIN:VEVENT
DTSTART:20250809T180000Z
DTEND:20250809T200000Z
X-MICROSOFT-CDO-ALLDAYEVENT:FALSE
SUMMARY:Quarry Dance 2025
DESCRIPTION:Windhover Center for the Performing Arts is pleased to announce the return of New York City based Alison Cook Beatty Dance Company for the 2025 Quarry Dance Performances. This year\, the quarry dance takes place at two lovely ponds\, complete with a waterfall\, and the space is easily accessible to the public. \n\nJoin us for an engaging celebration of dance\, creativity\, and natural beauty during this highly anticipated summer event. This performance is a dance created on-site and will serve as the culminating highlight of a week-long residency of the company at Windhover\, showcasing the dancers' dedication and artistry. \n\nAlison Cook Beatty Dance is a NYC based modern dance company rooted in classical techniques\, dedicated to exploring the universal human experience through expansive and emotionally expressive movement. The company draws on American modern dance principles while continually innovating with new methods to cultivate distinctive creative expression. The daring and athletic prowess of the 8 members is quite impressive\, and the entire expanse of the meadow\, frog pond and Millbrook Pond will be used.
X-ALT-DESC;FMTTYPE=text/html:<p><span style="font-family:times new roman\,serif\; font-size:16pt">Windhover Center for the Performing Arts is pleased to announce the return of New York City based Alison Cook Beatty Dance Company for the 2025 Quarry Dance Performances. This year\, the quarry dance takes place at two lovely ponds\, complete with a waterfall\, and the space is easily accessible to the public.&nbsp\;</span></p>\n\n<p><span style="font-family:times new roman\,serif\; font-size:16pt">Join us for an engaging celebration of dance\, creativity\, and natural beauty during this highly anticipated summer event. This performance is a dance created on-site and will serve as the culminating highlight of a week-long residency of the company at Windhover\, showcasing the dancers&#39\; dedication and artistry.&nbsp\;</span></p>\n\n<p><span style="font-family:times new roman\,serif\; font-size:16pt">Alison Cook Beatty Dance is a NYC based modern dance company rooted in classical techniques\, dedicated to exploring the universal human experience through expansive and emotionally expressive movement. The company draws on American modern dance principles while continually innovating with new methods to cultivate distinctive creative expression. The daring and athletic prowess of the 8 members is quite impressive\, and the entire expanse of the meadow\, frog pond and Millbrook Pond will be used.</span></p>\n
LOCATION:Millbrook Meadow and Pond\, 15 Beach Street\, Rockport MA
UID:e.2981.37451
SEQUENCE:3
DTSTAMP:20260424T235257Z
URL:https://business.capeannchamber.com/events/details/quarry-dance-2025-08-09-2025-37451
END:VEVENT

END:VCALENDAR
