BEGIN:VCALENDAR
VERSION:2.0
PRODID:-//ChamberMaster//Event Calendar 2.0//EN
METHOD:PUBLISH
X-PUBLISHED-TTL:P3D
REFRESH-INTERVAL:P3D
CALSCALE:GREGORIAN
BEGIN:VEVENT
DTSTART:20250927T180000Z
DTEND:20250927T200000Z
X-MICROSOFT-CDO-ALLDAYEVENT:FALSE
SUMMARY:Puppy Pals Live!
DESCRIPTION:Puppy Pals LIVE is a family fun action-packed show where adopted and rescued dogs perform spectacular stunts and breathtaking feats.\n\nWatch as we lead the puppies and audience through challenging and comical tricks as the pooches show everyone who is really boss! Full of surprises and laugh-out-loud canine comedy this performance appeals to children of all ages.
X-ALT-DESC;FMTTYPE=text/html:<p>Puppy Pals LIVE is a family fun action-packed show where adopted and rescued dogs perform spectacular stunts and breathtaking feats.</p>\n\n<div>Watch as we lead the puppies and audience through challenging and comical tricks as the pooches show everyone who is really boss! Full of surprises and laugh-out-loud canine comedy this performance appeals to children of all ages.</div>\n
LOCATION:The Cabot 286 Cabot St Beverly\, MA 01915
UID:e.2981.43028
SEQUENCE:3
DTSTAMP:20260425T011141Z
URL:https://business.capeannchamber.com/events/details/puppy-pals-live-43028
END:VEVENT

END:VCALENDAR
