BEGIN:VCALENDAR
VERSION:2.0
PRODID:-//ChamberMaster//Event Calendar 2.0//EN
METHOD:PUBLISH
X-PUBLISHED-TTL:P3D
REFRESH-INTERVAL:P3D
CALSCALE:GREGORIAN
BEGIN:VEVENT
DTSTART:20250928T140000Z
DTEND:20250928T210000Z
X-MICROSOFT-CDO-ALLDAYEVENT:FALSE
SUMMARY:Psychic Fair and Craft Festival
DESCRIPTION:Psychic Fair and September Craft Festival \n\nSunday September 28th 10-5pm\n\nThis September join us for our seasonal celebration of Apothecary Suil Crows annual Psychic Fair and Craft Festival! Enjoy a day full of mystery\, shopping\, readings by renowned psychics and mediums from all over Cape Ann\, food\, and community fun as we prepare for the month of October where everyone enjoys a bit of spooktacular fun! This will be our second year holding this fair which is destined to be another fun filled time on a Sunday during our favorite season of Autumn.\n\nAdditional fun includes:\n\n-Face painting for all ages\n\n-Pie Baking contest from 12-2pm\, eat and vote for your favorite\n\n-Photos with a real talking sorting hat\, and receive a wand to take home\n\nWhile you enjoy the fair remember to look up and there will be witches flying above the tents and parking area!
X-ALT-DESC;FMTTYPE=text/html:<div>Psychic Fair and September Craft Festival&nbsp\;</div>\n\n<div>Sunday September 28th 10-5pm</div>\n\n<div>This September join us for our seasonal celebration of Apothecary Suil Crows annual Psychic Fair and Craft Festival! Enjoy a day full of mystery\, shopping\, readings by renowned psychics and mediums from all over Cape Ann\, food\, and community fun as we prepare for the month of October where everyone enjoys a bit of spooktacular fun! This will be our second year holding this fair which is destined to be another fun filled time on a Sunday during our favorite season of Autumn.</div>\n\n<div>Additional fun includes:<br />\n-Face painting for all ages<br />\n-Pie Baking contest from 12-2pm\, eat and vote for your favorite<br />\n-Photos with a real talking sorting hat\, and receive a wand to take home</div>\n\n<div>While you enjoy the fair remember to look up and there will be witches flying above the tents and parking area!</div>\n
LOCATION:Apothecary Suil Crow 9 Whistlestop Mall Rockport MA 01966
UID:e.2981.36579
SEQUENCE:3
DTSTAMP:20260422T075141Z
URL:https://business.capeannchamber.com/events/details/psychic-fair-and-craft-festival-36579
END:VEVENT

END:VCALENDAR
