BEGIN:VCALENDAR
VERSION:2.0
PRODID:-//ChamberMaster//Event Calendar 2.0//EN
METHOD:PUBLISH
X-PUBLISHED-TTL:P3D
REFRESH-INTERVAL:P3D
CALSCALE:GREGORIAN
BEGIN:VEVENT
DTSTART:20241215T010000Z
DTEND:20241215T033000Z
X-MICROSOFT-CDO-ALLDAYEVENT:FALSE
SUMMARY:Prince/Bowie - The Music of Prince and David Bowie
DESCRIPTION:Prince/Bowie is a tribute fusion band that combines the music of Prince and David Bowie into a high energy live show.\n\n\nIt features a rotating Allstar cast of characters from various national acts including Pink Talking Fish\, lespecial\, Cool Cool Cool\, Remain In Light and more.\n\nThe mix of the Prince and David Bowie songbooks blend beautifully and an extra spice is added with master composer\, Matt Wayne\, creating unique horn arrangements that enhance the music in a special way.\n\nHere is what a setlist of Prince/Bowie can look like: Let's Dance   1999\, Fame   I Wanna Be You Lover\, Under Pressure\, Kiss\, Space Oddity   D.M.S.R.\, Moonage Daydream   Purple Rain
X-ALT-DESC;FMTTYPE=text/html:<p>Prince/Bowie is a tribute fusion band that combines the music of Prince and David Bowie into a high energy live show.</p>\n\n<div>\n<p>It features a rotating Allstar cast of characters from various national acts including Pink Talking Fish\, lespecial\, Cool Cool Cool\, Remain In Light and more.</p>\n\n<p>The mix of the Prince and David Bowie songbooks blend beautifully and an extra spice is added with master composer\, Matt Wayne\, creating unique horn arrangements that enhance the music in a special way.</p>\n\n<p>Here is what a setlist of Prince/Bowie can look like: Let&rsquo\;s Dance &gt\; 1999\, Fame &gt\; I Wanna Be You Lover\, Under Pressure\, Kiss\, Space Oddity &gt\; D.M.S.R.\, Moonage Daydream &gt\; Purple Rain</p>\n</div>\n
LOCATION:The Cabot 286 Cabot Street Beverly\, MA 01915
UID:e.2981.34229
SEQUENCE:3
DTSTAMP:20260424T152812Z
URL:https://business.capeannchamber.com/events/details/prince-bowie-the-music-of-prince-and-david-bowie-34229
END:VEVENT

END:VCALENDAR
