BEGIN:VCALENDAR
VERSION:2.0
PRODID:-//ChamberMaster//Event Calendar 2.0//EN
METHOD:PUBLISH
X-PUBLISHED-TTL:P3D
REFRESH-INTERVAL:P3D
CALSCALE:GREGORIAN
BEGIN:VEVENT
DTSTART:20250925T123000Z
DTEND:20250925T143000Z
X-MICROSOFT-CDO-ALLDAYEVENT:FALSE
SUMMARY:Pricing: How much should I charge?
DESCRIPTION:One of the most difficult questions is what to charge? Do I give big discounts to get my first\n\ncustomers? Being the low-cost provider is a plan to go broke. So how do I maximize income \n\nwithout jeopardizing the future of my business? Learn:\n\n	The answer is part science and part gut feel\; there are no perfect answers so \n	The thought process you need to find the right number. It will not be perfect\; \n	Everyone must experiment a bit and learn from the market. \n	It doesn't have to be overly complicated\n\nFacilitator: Sue Sung
X-ALT-DESC;FMTTYPE=text/html:<span style="font-family:arial\,sans-serif">One of the most difficult questions is what to charge? Do I give big discounts to get my first</span><br />\n<span style="font-family:arial\,sans-serif">customers? Being the low-cost provider is a plan to go broke. So how do I maximize income </span><br />\n<span style="font-family:arial\,sans-serif">without jeopardizing the future of my business? Learn:</span>\n<ul>\n	<li><span style="font-family:arial\,sans-serif">The answer is part science and part gut feel\; there are no perfect answers so </span></li>\n	<li><span style="font-family:arial\,sans-serif">The thought process you need to find the right number. It will not be perfect\; </span></li>\n	<li><span style="font-family:arial\,sans-serif">Everyone must experiment a bit and learn from the market. </span></li>\n	<li><span style="font-family:arial\,sans-serif">It doesn&rsquo\;t have to be overly complicated</span></li>\n</ul>\n<span style="font-family:arial\,sans-serif"><span style="font-size:12.0pt">Facilitator: Sue Sung</span></span>
LOCATION:Enterprise Center at Salem State University
UID:e.2981.43033
SEQUENCE:3
DTSTAMP:20260425T011102Z
URL:https://business.capeannchamber.com/events/details/pricing-how-much-should-i-charge-43033
END:VEVENT

END:VCALENDAR
