BEGIN:VCALENDAR
VERSION:2.0
PRODID:-//ChamberMaster//Event Calendar 2.0//EN
METHOD:PUBLISH
X-PUBLISHED-TTL:P3D
REFRESH-INTERVAL:P3D
CALSCALE:GREGORIAN
BEGIN:VEVENT
DTSTART:20251025T160000Z
DTEND:20251025T200000Z
X-MICROSOFT-CDO-ALLDAYEVENT:FALSE
SUMMARY:Preschool ART Contest and Halloween Open House
DESCRIPTION:We're proud to serve the Ipswich and Northshore community. As a "thank you" for partnering with us over the years\, we'd like to invite you to our Open House featuring Local Preschool ART. Call for Contest Details.
X-ALT-DESC;FMTTYPE=text/html:We&#39\;re proud to serve the Ipswich and Northshore community. As a &quot\;thank you&quot\; for partnering with us over the years\, we&#39\;d like to invite you to our Open House featuring Local Preschool ART. Call for Contest Details.
LOCATION:55 Market Street Suite 102 Ipswich\, MA 01938
UID:e.2981.44883
SEQUENCE:3
DTSTAMP:20260422T051139Z
URL:https://business.capeannchamber.com/events/details/preschool-art-contest-and-halloween-open-house-44883
END:VEVENT

END:VCALENDAR
