BEGIN:VCALENDAR
VERSION:2.0
PRODID:-//ChamberMaster//Event Calendar 2.0//EN
METHOD:PUBLISH
X-PUBLISHED-TTL:P3D
REFRESH-INTERVAL:P3D
CALSCALE:GREGORIAN
BEGIN:VEVENT
DTSTART:20200408T153000Z
DTEND:20200409T010000Z
X-MICROSOFT-CDO-ALLDAYEVENT:FALSE
SUMMARY:POSTPONED-Mr. & Mrs. L. Dexter Woodman Scholarship Night
DESCRIPTION:On behalf of the Woodman Family and the Mr. & Mrs. L. Dexter Woodman Scholarship\, please join us for our Annual Scholarship Night on Wednesday\, April 8\, 2020. Co-hosting the night once again is C.K. pearl (who will once again donate 10% of the day's profits to the Scholarship). Help us keep Dexter and Gini's legacy of community and education first continue to support students from Manchester Essex Regional Middle/High School and through Cape Ann Chamber of Commerce\, Essex Lions\, MA Restaurant Association (MRA)\, North Shore Chamber of Commerce\, Inc.\, Prep@Pingree and Root\n\n\n\nFor more information go to www.woodmanscholarship.org
X-ALT-DESC;FMTTYPE=text/html:<p><span style="font-size:12px"><span style="color:rgb(29\, 33\, 41)\; font-family:helvetica\,arial\,sans-serif">On behalf of the Woodman Family and the Mr. &amp\; Mrs. L. Dexter Woodman Scholarship\, please join us for our Annual Scholarship Night on Wednesday\, April 8\, 2020. Co-hosting the night once again is </span><a href="https://www.facebook.com/ckpearlessex/" style="color: rgb(54\, 88\, 153)\; cursor: pointer\; text-decoration-line: none\; font-family: Helvetica\, Arial\, sans-serif\; font-size: 14px\; white-space: pre-wrap\;" target="_blank">C.K. pearl</a><span style="color:rgb(29\, 33\, 41)\; font-family:helvetica\,arial\,sans-serif"> (who will once again donate 10% of the day&#39\;s profits to the Scholarship). </span><span style="color:rgb(29\, 33\, 41)\; font-family:helvetica\,arial\,sans-serif">Help us keep Dexter and Gini&#39\;s legacy of community and education first continue to support students from </span><a href="https://www.facebook.com/pages/Manchester-Essex-Regional-MiddleHigh-School/111608282224281" style="color: rgb(54\, 88\, 153)\; cursor: pointer\; text-decoration-line: none\; font-family: Helvetica\, Arial\, sans-serif\; font-size: 14px\; white-space: pre-wrap\;" target="_blank">Manchester Essex Regional Middle/High School</a><span style="color:rgb(29\, 33\, 41)\; font-family:helvetica\,arial\,sans-serif"> and through </span><a href="https://www.facebook.com/capeannchamber/" style="color: rgb(54\, 88\, 153)\; cursor: pointer\; text-decoration-line: none\; font-family: Helvetica\, Arial\, sans-serif\; font-size: 14px\; white-space: pre-wrap\;" target="_blank">Cape Ann Chamber of Commerce</a><span style="color:rgb(29\, 33\, 41)\; font-family:helvetica\,arial\,sans-serif">\, </span><a href="https://www.facebook.com/essex.lions" style="color: rgb(54\, 88\, 153)\; cursor: pointer\; text-decoration-line: none\; font-family: Helvetica\, Arial\, sans-serif\; font-size: 14px\; white-space: pre-wrap\;" target="_blank">Essex Lions</a><span style="color:rgb(29\, 33\, 41)\; font-family:helvetica\,arial\,sans-serif">\, </span><a href="https://www.facebook.com/marestaurants/" style="color: rgb(54\, 88\, 153)\; cursor: pointer\; text-decoration-line: none\; font-family: Helvetica\, Arial\, sans-serif\; font-size: 14px\; white-space: pre-wrap\;" target="_blank">MA Restaurant Association (MRA)</a><span style="color:rgb(29\, 33\, 41)\; font-family:helvetica\,arial\,sans-serif">\, </span><a href="https://www.facebook.com/northshorechamber/" style="color: rgb(54\, 88\, 153)\; cursor: pointer\; text-decoration-line: none\; font-family: Helvetica\, Arial\, sans-serif\; font-size: 14px\; white-space: pre-wrap\;" target="_blank">North Shore Chamber of Commerce\, Inc.</a><span style="color:rgb(29\, 33\, 41)\; font-family:helvetica\,arial\,sans-serif">\, </span><a href="https://www.facebook.com/PrepPingree/" style="color: rgb(54\, 88\, 153)\; cursor: pointer\; text-decoration-line: none\; font-family: Helvetica\, Arial\, sans-serif\; font-size: 14px\; white-space: pre-wrap\;" target="_blank">Prep@Pingree</a><span style="color:rgb(29\, 33\, 41)\; font-family:helvetica\,arial\,sans-serif"> and </span><a href="https://www.facebook.com/RootSalem/" style="color: rgb(54\, 88\, 153)\; cursor: pointer\; text-decoration-line: none\; font-family: Helvetica\, Arial\, sans-serif\; font-size: 14px\; white-space: pre-wrap\;" target="_blank">Root</a><br />\n<br />\n<span style="color:rgb(29\, 33\, 41)\; font-family:helvetica\,arial\,sans-serif">For more information go to </span><a href="http://www.woodmanscholarship.org/?fbclid=IwAR3ZUnvfyYifvXnF4KCv9QGskpYF0SNWVJeCLEF9T3rogOJJ92ORbb8XiAM" rel="nofollow noopener" style="color: rgb(54\, 88\, 153)\; cursor: pointer\; text-decoration-line: none\; font-family: Helvetica\, Arial\, sans-serif\; font-size: 14px\; white-space: pre-wrap\;" target="_blank">www.woodmanscholarship.org</a></span></p>\n
LOCATION:CK Pearl 112 Main St. Essex\, MA 01929
UID:e.2981.18566
SEQUENCE:3
DTSTAMP:20260426T041107Z
URL:https://business.capeannchamber.com/events/details/postponed-mr-mrs-l-dexter-woodman-scholarship-night-18566
END:VEVENT

END:VCALENDAR
