BEGIN:VCALENDAR
VERSION:2.0
PRODID:-//ChamberMaster//Event Calendar 2.0//EN
METHOD:PUBLISH
X-PUBLISHED-TTL:P3D
REFRESH-INTERVAL:P3D
CALSCALE:GREGORIAN
BEGIN:VEVENT
DTSTART:20200415T210000Z
DTEND:20200415T230000Z
X-MICROSOFT-CDO-ALLDAYEVENT:FALSE
SUMMARY:POSTPONED-Den-Mar Business After Hours
DESCRIPTION:We look forward to joining you all at a date later in the year! We will update when a new date has been set. The Staff and Board of Directors of Den-Mar Health and Rehabilitation Center invite you to join them as they host the April Business After Hours Networking event.\n\nCome see and tour this great facility and learn about the many programs and services they have in place.\n\nNetwrok\, look for leads and make new contacts with other area Businesspeople.
X-ALT-DESC;FMTTYPE=text/html:We look forward to joining you all at a date later in the year! We will update when a new date has been set. The Staff and Board of Directors of Den-Mar Health and Rehabilitation Center invite you to join them as they host the April Business After Hours Networking event.<br />\nCome see and tour this great facility and learn about the many programs and services they have in place.<br />\nNetwrok\, look for leads and make new contacts with other area Businesspeople.<br />\n&nbsp\;
LOCATION:Den-Mar Health & Rehabilitation Center 44 South Street Rockport
UID:e.2981.18678
SEQUENCE:3
DTSTAMP:20260426T040954Z
URL:https://business.capeannchamber.com/events/details/postponed-den-mar-business-after-hours-18678
END:VEVENT

END:VCALENDAR
