BEGIN:VCALENDAR
VERSION:2.0
PRODID:-//ChamberMaster//Event Calendar 2.0//EN
METHOD:PUBLISH
X-PUBLISHED-TTL:P3D
REFRESH-INTERVAL:P3D
CALSCALE:GREGORIAN
BEGIN:VEVENT
DTSTART:20250906T180000Z
DTEND:20250906T190000Z
X-MICROSOFT-CDO-ALLDAYEVENT:FALSE
SUMMARY:Pop-Up Cyanotype Exhibition with Photographer Patricia Scialo
DESCRIPTION:Saturday\, September 6\, 2025\n\n2:00 p.m. 3:00 p.m.\n\nWhite-Ellery House\, CAM Green\n\n13 Poplar St\, Gloucester\, MA 01930\n\nFree and open to the public.\n\nJoin photographer and arts educator Patricia Scialo for an hour-long pop-up exhibition of her cyanotype work in the White-Ellery House. Cyanotype sun prints were developed and popularized as an art form in the 19th century. Join Patricia earlier in the day to create your own cyanotype print. Space is limited\, reservations are required. \n\nAbout the artist: Patricia Scialo is a fine art photographer specializing in historic photographic processes and hand printing techniques\, drawing inspiration from light\, nature\, and the human form. She is the 2020 winner of the Julia Margaret Cameron Gala Awards\, Barcelona\, professional section\, in the categories of Abstract\, Alternative Processes\, and Children. \n\n \n\nImage Credit: Patricia Scialo\, cyanotype print on a silk scarf. Photo courtesy of the artist.
X-ALT-DESC;FMTTYPE=text/html:<p>Saturday\, September 6\, 2025<br />\n2:00 p.m.&mdash\;3:00 p.m.<br />\nWhite-Ellery House\,&nbsp\;<a href="https://www.capeannmuseum.org/visit/cam-green-campus/" style="box-sizing: border-box\; margin: 0px\; padding: 0px\; border-width: 0px 0px 1px\; border-top-style: initial\; border-right-style: initial\; border-bottom-style: solid\; border-left-style: initial\; border-color: rgb(211\, 211\, 211)\; border-image: initial\; font-variant: inherit\; font-weight: inherit\; font-stretch: inherit\; font-size: inherit\; line-height: inherit\; font-family: inherit\; font-optical-sizing: inherit\; font-size-adjust: inherit\; font-kerning: inherit\; font-feature-settings: inherit\; font-variation-settings: inherit\; vertical-align: baseline\; text-decoration-line: none\; outline: 0px\; max-width: 100%\; color: rgb(37\, 119\, 160)\; transition: color 0.2s\;">CAM Green</a><br />\n13 Poplar St\, Gloucester\, MA 01930<br />\n<em>Free and open to the public.</em></p>\n\n<p>Join photographer and arts educator Patricia Scialo for an hour-long pop-up exhibition of her cyanotype work in the White-Ellery House. Cyanotype sun prints were developed and popularized as an art form in the 19th&nbsp\;century.&nbsp\;Join Patricia earlier in the day to create your own cyanotype print. Space is limited\,&nbsp\;<a href="https://115461a.blackbaudhosting.com/115461a/Sun-Prints-with-Photographer-Patricia-Scialo" style="box-sizing: border-box\; margin: 0px\; padding: 0px\; border-width: 0px 0px 1px\; border-top-style: initial\; border-right-style: initial\; border-bottom-style: solid\; border-left-style: initial\; border-color: rgb(211\, 211\, 211)\; border-image: initial\; font-variant: inherit\; font-weight: inherit\; font-stretch: inherit\; font-size: inherit\; line-height: inherit\; font-family: inherit\; font-optical-sizing: inherit\; font-size-adjust: inherit\; font-kerning: inherit\; font-feature-settings: inherit\; font-variation-settings: inherit\; vertical-align: baseline\; text-decoration-line: none\; outline: 0px\; max-width: 100%\; color: rgb(37\, 119\, 160)\; transition: color 0.2s\;">reservations are required.</a>&nbsp\;</p>\n\n<p><strong>About the artist:&nbsp\;</strong><a href="https://www.patriciascialo.com/" style="box-sizing: border-box\; margin: 0px\; padding: 0px\; border-width: 0px 0px 1px\; border-top-style: initial\; border-right-style: initial\; border-bottom-style: solid\; border-left-style: initial\; border-color: rgb(211\, 211\, 211)\; border-image: initial\; font-variant: inherit\; font-weight: inherit\; font-stretch: inherit\; font-size: inherit\; line-height: inherit\; font-family: inherit\; font-optical-sizing: inherit\; font-size-adjust: inherit\; font-kerning: inherit\; font-feature-settings: inherit\; font-variation-settings: inherit\; vertical-align: baseline\; text-decoration-line: none\; outline: 0px\; max-width: 100%\; color: rgb(37\, 119\, 160)\; transition: color 0.2s\;">Patricia Scialo</a>&nbsp\;is a fine art photographer specializing in historic photographic processes and hand printing techniques\, drawing inspiration from light\, nature\, and the human form. She is the 2020 winner of the Julia Margaret Cameron Gala Awards\, Barcelona\, professional section\, in the categories of Abstract\, Alternative Processes\, and Children.&nbsp\;</p>\n\n<p>&nbsp\;</p>\n\n<p><em>Image Credit:&nbsp\;Patricia Scialo\, cyanotype&nbsp\;print&nbsp\;on&nbsp\;a silk&nbsp\;scarf. Photo courtesy of the artist.&nbsp\;</em></p>\n
LOCATION:White-Ellery House\, CAM Green 13 Poplar St\, Gloucester\, MA 01930
UID:e.2981.37410
SEQUENCE:3
DTSTAMP:20260425T011529Z
URL:https://business.capeannchamber.com/events/details/pop-up-cyanotype-exhibition-with-photographer-patricia-scialo-37410
END:VEVENT

END:VCALENDAR
