BEGIN:VCALENDAR
VERSION:2.0
PRODID:-//ChamberMaster//Event Calendar 2.0//EN
METHOD:PUBLISH
X-PUBLISHED-TTL:P3D
REFRESH-INTERVAL:P3D
CALSCALE:GREGORIAN
BEGIN:VEVENT
DTSTART:20260630T230000Z
DTEND:20260701T010000Z
X-MICROSOFT-CDO-ALLDAYEVENT:FALSE
SUMMARY:Poetry Month Open Mic
DESCRIPTION:Open mic poetry nights are\, in supportive\, community-focused events where poets can share original work\, try new pieces\, and connect with other artists. They typically feature a sign-up list\, short performance slots (usually 3 5 minutes)\, and a welcoming audience.
X-ALT-DESC;FMTTYPE=text/html:<span style="font-size:14px"><span style="color:rgb(10\, 10\, 10)\; font-family:google sans\,roboto\,arial\,sans-serif">Open mic poetry nights are\, in</span><span style="color:rgb(10\, 10\, 10)\; font-family:google sans\,roboto\,arial\,sans-serif">&nbsp\;</span>supportive\, community-focused events where poets can share original work\, try new pieces\, and connect with other artists<span style="color:rgb(10\, 10\, 10)\; font-family:google sans\,roboto\,arial\,sans-serif">. They typically feature a sign-up list\, short performance slots (usually 3&ndash\;5 minutes)\, and a welcoming audience.</span></span>
LOCATION:The Gloucester Writers Center\, 126 East Main Street\, Gloucester\, MA
UID:e.2981.46952
SEQUENCE:3
DTSTAMP:20260424T222205Z
URL:https://business.capeannchamber.com/events/details/poetry-month-open-mic-06-30-2026-46952
END:VEVENT

END:VCALENDAR
