BEGIN:VCALENDAR
VERSION:2.0
PRODID:-//ChamberMaster//Event Calendar 2.0//EN
METHOD:PUBLISH
X-PUBLISHED-TTL:P3D
REFRESH-INTERVAL:P3D
CALSCALE:GREGORIAN
BEGIN:VEVENT
DTSTART:20231209T150000Z
DTEND:20231209T180000Z
X-MICROSOFT-CDO-ALLDAYEVENT:FALSE
SUMMARY:Photos with Santa at Amanda Armstrong Group
DESCRIPTION:Amanda Armstrong Group is hosting a free Photos with Santa event on December 9th at our office in Magnolia. All are welcome to attend to get your picture taken - even the furry family members! Festive refreshments\, holiday children's activities\, and a small take-home goodie will be provided.
X-ALT-DESC;FMTTYPE=text/html:<span style="color:rgb(5\, 5\, 5)\; font-family:segoe ui historic\,segoe ui\,helvetica\,arial\,sans-serif\; font-size:15px">Amanda Armstrong Group is hosting a free Photos with Santa event on December 9th at our office in Magnolia. All are welcome to attend to get your picture taken - even the furry family members! Festive refreshments\, holiday children&#39\;s activities\, and a small take-home goodie will be provided.</span>
LOCATION:Amanda Armstrong Group 35 Fuller St\, Unit 100 Gloucester\, MA 01930
UID:e.2981.27109
SEQUENCE:3
DTSTAMP:20260421T214948Z
URL:https://business.capeannchamber.com/events/details/photos-with-santa-at-amanda-armstrong-group-27109
END:VEVENT

END:VCALENDAR
