BEGIN:VCALENDAR
VERSION:2.0
PRODID:-//ChamberMaster//Event Calendar 2.0//EN
METHOD:PUBLISH
X-PUBLISHED-TTL:P3D
REFRESH-INTERVAL:P3D
CALSCALE:GREGORIAN
BEGIN:VEVENT
DTSTART:20221214T150000Z
DTEND:20221215T000000Z
X-MICROSOFT-CDO-ALLDAYEVENT:FALSE
SUMMARY:Pauline's Gift Shop Customer Appreciation Day
DESCRIPTION:
X-ALT-DESC;FMTTYPE=text/html:
LOCATION:
UID:e.2981.23218
SEQUENCE:3
DTSTAMP:20260424T090305Z
URL:https://business.capeannchamber.com/events/details/pauline-s-gift-shop-customer-appreciation-day-23218
END:VEVENT

END:VCALENDAR
