BEGIN:VCALENDAR
VERSION:2.0
PRODID:-//ChamberMaster//Event Calendar 2.0//EN
METHOD:PUBLISH
X-PUBLISHED-TTL:P3D
REFRESH-INTERVAL:P3D
CALSCALE:GREGORIAN
BEGIN:VEVENT
DTSTART:20220724T230000Z
DTEND:20220725T010000Z
X-MICROSOFT-CDO-ALLDAYEVENT:FALSE
SUMMARY:Paula Cole at Shalin Liu
DESCRIPTION:Rockport's own Paula Cole has won Grammy's and played sold-out arenas\, but always returns to her hometown for a memorable night of smash hits like "I Don't Want to Wait" and "Where Have All the Cowboys Gone?" She's touring in support of her newest record\, the triumphant American Quilt\, an album that mines and reinterprets classics from the jazz\, blues and folk traditions.
X-ALT-DESC;FMTTYPE=text/html:Rockport&rsquo\;s own Paula Cole has won Grammy&rsquo\;s and played sold-out arenas\, but always returns to her hometown for a memorable night of smash hits like &ldquo\;I Don&rsquo\;t Want to Wait&rdquo\; and &ldquo\;Where Have All the Cowboys Gone?&rdquo\; She&rsquo\;s touring in support of her newest record\, the triumphant <em>American Quilt\, </em>an album that mines and reinterprets classics from the jazz\, blues and folk traditions.
LOCATION:Shalin Liu Performance Center 37 Main Street Rockport\, MA
UID:e.2981.22487
SEQUENCE:3
DTSTAMP:20260422T021559Z
URL:https://business.capeannchamber.com/events/details/paula-cole-at-shalin-liu-22487
END:VEVENT

END:VCALENDAR
