BEGIN:VCALENDAR
VERSION:2.0
PRODID:-//ChamberMaster//Event Calendar 2.0//EN
METHOD:PUBLISH
X-PUBLISHED-TTL:P3D
REFRESH-INTERVAL:P3D
CALSCALE:GREGORIAN
BEGIN:VEVENT
DTSTART:20250426T000000Z
DTEND:20250426T013000Z
X-MICROSOFT-CDO-ALLDAYEVENT:FALSE
SUMMARY:Paul Reiser
DESCRIPTION:Comedian\, actor\, television writer\, author and musician Paul Reiser is one of Hollywood's most prolific creatives.\n\n\n2025 is set to be a busy year for Reiser. On the heels of his new comedy "The Problem with People\," which he wrote\, produced\, and starred in alongside Colm Meaney and Jane Levy\, Reiser has upcoming projects across a multitude of media formats.\n\nIn March\, Carter Burke\, Reiser's iconic character from "Aliens" will be re-emerging in a "what-if" concept comic book from Marvel comics.\n\nReiser co-wrote  "What a Fool Believes\," the candid\, freewheeling memoir of his friend and Rock & Roll Hall of Famer Michael McDonald which will be published May 21 from HarperCollins/DeyStreet.\n\nLater\, in July\, Reiser will appear in Netflix's "Beverly Hills Cop: Axel F\, reprising his role from BH Cop 1 and 2 and will also appear in the independent comedy  "The Gutter\," directed by Isaiah and Yassir Lester\, premiering at SXSW.\n\nRecently Reiser could be seen in Hulu's critically-acclaimed comedy series "Reboot" from Modern Family creator Steve Levitan. Awards Daily wrote "Reiser truly excels\, giving one of his very best performances here\, he reminds us just how very funny and experienced he is in the world of television comedy."\n\nHe also took his first step into bloody\, superhero glory in Season 3 of Amazon Prime's Emmy-nominated The Boys playing "The Legend."\n\nReiser is widely celebrated for his roles in two hit shows for Netflix: Stranger Things the company's biggest series of all time  and Chuck Lorre's The Kominsky Method\, for which he received an Emmy nomination for Outstanding Supporting Actor.\n\nMad About You\, the long-running Emmy\, Peabody\, and Golden Globe-winning comedy that  Reiser created and starred in with Helen Hunt returned as a limited series on Spectrum Originals.
X-ALT-DESC;FMTTYPE=text/html:<p>Comedian\, actor\, television writer\, author and musician Paul Reiser is one of Hollywood&rsquo\;s most prolific creatives.</p>\n\n<div>\n<p>2025 is set to be a busy year for Reiser. On the heels of his new comedy &ldquo\;The Problem with People\,&rdquo\; which he wrote\, produced\, and starred in alongside Colm Meaney and Jane Levy\, Reiser has upcoming projects across a multitude of media formats.</p>\n\n<p>In March\, Carter Burke\, Reiser&rsquo\;s iconic character from &ldquo\;Aliens&rdquo\; will be re-emerging in a &ldquo\;what-if&rdquo\; concept comic book from Marvel comics.</p>\n\n<p>Reiser co-wrote&nbsp\; &ldquo\;What a Fool Believes\,&rdquo\; the candid\, freewheeling memoir of his friend and Rock &amp\; Roll Hall of Famer Michael McDonald which will be published May 21 from HarperCollins/DeyStreet.</p>\n\n<p>Later\, in July\, Reiser will appear in Netflix&rsquo\;s &ldquo\;Beverly Hills Cop: Axel F\, reprising his role from BH Cop 1 and 2 and will also appear in the independent comedy&nbsp\; &ldquo\;The Gutter\,&rdquo\; directed by Isaiah and Yassir Lester\, premiering at SXSW.</p>\n\n<p>Recently Reiser could be seen in Hulu&rsquo\;s critically-acclaimed comedy series &ldquo\;Reboot&rdquo\; from Modern Family creator Steve Levitan. Awards Daily wrote &ldquo\;Reiser truly excels\, giving one of his very best performances&hellip\;here\, he reminds us just how very funny and experienced he is in the world of television comedy.&rdquo\;</p>\n\n<p>He also took his first step into bloody\, superhero glory in Season 3 of Amazon Prime&rsquo\;s Emmy-nominated The Boys playing &ldquo\;The Legend.&rdquo\;</p>\n\n<p>Reiser is widely celebrated for his roles in two hit shows for Netflix: Stranger Things&mdash\;the company&rsquo\;s biggest series of all time&mdash\; and Chuck Lorre&rsquo\;s The Kominsky Method\, for which he received an Emmy nomination for Outstanding Supporting Actor.</p>\n\n<p>Mad About You\, the long-running Emmy\, Peabody\, and Golden Globe-winning comedy that&nbsp\; Reiser created and starred in with Helen Hunt returned as a limited series on Spectrum Originals.</p>\n</div>\n
LOCATION:The Cabot 286 Cabot St Beverly\, MA 01915
UID:e.2981.35166
SEQUENCE:3
DTSTAMP:20260424T140702Z
URL:https://business.capeannchamber.com/events/details/paul-reiser-35166
END:VEVENT

END:VCALENDAR
