BEGIN:VCALENDAR
VERSION:2.0
PRODID:-//ChamberMaster//Event Calendar 2.0//EN
METHOD:PUBLISH
X-PUBLISHED-TTL:P3D
REFRESH-INTERVAL:P3D
CALSCALE:GREGORIAN
BEGIN:VEVENT
DTSTART:20250725T143000Z
DTEND:20250725T160000Z
X-MICROSOFT-CDO-ALLDAYEVENT:FALSE
SUMMARY:Patriots and Privateers of Revolutionary Middle Street
DESCRIPTION:Friday\, July 25\, 2025\n\n10:30 a.m.   12:00 p.m.\n\nCape Ann Museum Courtyard\, Downtown Campus\n\n27 Pleasant St\, Gloucester\, MA\, 01930\n\n$10 for CAM Members\, $20 for non-members\n\nRegistration Required\n\nAs a seaport town jutting into the Atlantic\, Gloucester was of strategic importance  during the American Revolution and always under threat of attack. The people of the town stood ready to take action against the British\, and many of them did. In this walking tour down Middle Street   one of Gloucester's oldest streets   we will step back in time to meet  people who were witness to Revolution right from this spot\; see where they lived and gathered\, in houses still standing today\; and hear the stories of the roles they played in defending liberty\, as patriots\, privateers\, preachers and more. This tour was developed in conjunction with the 250th Anniversary of the American Revolution.\n\nStroll with a CAM Docent for about 1 1/2 hours as you walk Middle Street in downtown Gloucester.\n\nWhere to Meet?\n\nThough the Downtown Campus is currently closed for renovations until the spring of 2026\, the tour will gather at the courtyard attached to the Museum on 27 Pleasant Street. Tours are light rain or shine.\n\nPhoto Credit: CAM docent leading walking tour\, CAM staff photo
X-ALT-DESC;FMTTYPE=text/html:<p>Friday\, July 25\, 2025<br />\n10:30 a.m. &ndash\; 12:00 p.m.<br />\nCape Ann Museum Courtyard\, Downtown Campus<br />\n27 Pleasant St\, Gloucester\, MA\, 01930<br />\n<em>$10 for CAM Members\, $20 for non-members</em><br />\n<a href="https://115461a.blackbaudhosting.com/115461a/Patriots-and-Privateers-of-Revolutionary-Middle-Street-25Jul2025" style="box-sizing: border-box\; margin: 0px\; padding: 0px\; border-width: 0px 0px 1px\; border-top-style: initial\; border-right-style: initial\; border-bottom-style: solid\; border-left-style: initial\; border-color: rgb(211\, 211\, 211)\; border-image: initial\; font-variant: inherit\; font-weight: inherit\; font-stretch: inherit\; font-size: inherit\; line-height: inherit\; font-family: inherit\; font-optical-sizing: inherit\; font-size-adjust: inherit\; font-kerning: inherit\; font-feature-settings: inherit\; font-variation-settings: inherit\; vertical-align: baseline\; text-decoration-line: none\; outline: 0px\; max-width: 100%\; color: rgb(37\, 119\, 160)\; transition: color 0.2s\;"><em>Registration Required</em></a></p>\n\n<p>As a seaport town jutting into the Atlantic\, Gloucester was of strategic importance &nbsp\;during the American Revolution and always under threat of attack. The people of the town stood ready to take action against the British\, and many of them did. In this walking tour down Middle Street &mdash\; one of Gloucester&rsquo\;s oldest streets &ndash\; we will step back in time to meet &nbsp\;people who were witness to Revolution right from this spot\; see where they lived and gathered\, in houses still standing today\; and hear the stories of the roles they played in defending liberty\, as patriots\, privateers\, preachers and more. This tour was developed in conjunction with the 250th Anniversary of the American Revolution.</p>\n\n<p>Stroll with a CAM Docent for about 1 1/2 hours as you walk Middle Street in downtown Gloucester.</p>\n\n<h5><span style="color:rgb(0\, 67\, 106)">Where to Meet?</span></h5>\n\n<p>Though the Downtown Campus is currently closed for renovations until the spring of 2026\, the tour will gather at the courtyard attached to the Museum on 27 Pleasant Street. Tours are light rain or shine.</p>\n\n<p><em>Photo Credit: CAM docent leading walking tour\, CAM staff photo</em></p>\n
LOCATION:Cape Ann Museum Courtyard\, Downtown Campus 27 Pleasant St\, Gloucester\, MA\, 01930
UID:e.2981.37361
SEQUENCE:3
DTSTAMP:20260424T223621Z
URL:https://business.capeannchamber.com/events/details/patriots-and-privateers-of-revolutionary-middle-street-07-25-2025-37361
END:VEVENT

END:VCALENDAR
