BEGIN:VCALENDAR
VERSION:2.0
PRODID:-//ChamberMaster//Event Calendar 2.0//EN
METHOD:PUBLISH
X-PUBLISHED-TTL:P3D
REFRESH-INTERVAL:P3D
CALSCALE:GREGORIAN
BEGIN:VEVENT
DTSTART:20241202T000000Z
DTEND:20241202T023000Z
X-MICROSOFT-CDO-ALLDAYEVENT:FALSE
SUMMARY:Pat Metheny - Dream Box/MoonDial Tour
DESCRIPTION:Guitarist and Composer PAT METHENY\, winner of 20 Grammy Awards in 10 different categories\, gives an intimate concert like no other Metheny performance before. Playing over a dozen guitars\, Metheny offers songs from his past and recent recordings\, Dream Box and MoonDial\, all given further dimension by the rare storytelling Pat shares with the audience.
X-ALT-DESC;FMTTYPE=text/html:<span style="color:rgb(0\, 0\, 0)\; font-family:hco gotham ssm\,sans-serif\; font-size:16px">Guitarist and Composer PAT METHENY\, winner of 20 Grammy Awards in 10 different categories\, gives an intimate concert like no other Metheny performance before. Playing over a dozen guitars\, Metheny offers songs from his past and recent recordings\, Dream Box and MoonDial\, all given further dimension by the rare storytelling Pat shares with the audience.</span>
LOCATION:The Cabot 286 Cabot Street Beverly\, MA 01915
UID:e.2981.34177
SEQUENCE:3
DTSTAMP:20260424T164238Z
URL:https://business.capeannchamber.com/events/details/pat-metheny-dream-box-moondial-tour-34177
END:VEVENT

END:VCALENDAR
