BEGIN:VCALENDAR
VERSION:2.0
PRODID:-//ChamberMaster//Event Calendar 2.0//EN
METHOD:PUBLISH
X-PUBLISHED-TTL:P3D
REFRESH-INTERVAL:P3D
CALSCALE:GREGORIAN
BEGIN:VEVENT
DTSTART:20250806T220000Z
DTEND:20250807T010000Z
X-MICROSOFT-CDO-ALLDAYEVENT:FALSE
SUMMARY:Past President's Dinner 2025
DESCRIPTION:Past President's Dinner
X-ALT-DESC;FMTTYPE=text/html:Past President&#39\;s Dinner&nbsp\;
LOCATION:Beauport Hotel
UID:e.2981.34897
SEQUENCE:3
DTSTAMP:20260424T235217Z
URL:https://business.capeannchamber.com/events/details/past-president-s-dinner-2025-34897
END:VEVENT

END:VCALENDAR
