BEGIN:VCALENDAR
VERSION:2.0
PRODID:-//ChamberMaster//Event Calendar 2.0//EN
METHOD:PUBLISH
X-PUBLISHED-TTL:P3D
REFRESH-INTERVAL:P3D
CALSCALE:GREGORIAN
BEGIN:VEVENT
DTSTART:20140321T170000Z
DTEND:20140321T170000Z
X-MICROSOFT-CDO-ALLDAYEVENT:FALSE
SUMMARY:Pale Shadows: Cameraless Images by Pamela Ellis Hawkes
DESCRIPTION:Trident Gallery is pleased to present ''Pale Shadows: Cameraless Images by Pamela Ellis Hawkes\,'' an exhibition of cyanotypes\, tintypes\, and pigment prints captured without a camera. Inspired by flickering shadows on her studio walls and by the earliest works of photography\, made in the 1830s by inventor Henry Fox Talbot\, who aspired to ''fix a shadow'' onto paper\, Hawkes experiments with the cyanotype process to make photograms\, images made by placing objects directly in contact with light-sensitive paper.  In so doing\, Hawkes joins other important contemporary photographers who have returned to ''historical'' or ''alternative'' photographic processes to refresh and develop their artistic visions. Hawkes' vision questions the perceived realities within photographs\; explores the elusive points of contact between reality\, memory\, and imagination\; and participates in the ageless calling of artists to preserve and honor the ephemeral\, to fix fleeting shadows and transmute loss into beauty.
X-ALT-DESC;FMTTYPE=text/html:Trident Gallery is pleased to present ''Pale Shadows: Cameraless Images by Pamela Ellis Hawkes\,'' an exhibition of cyanotypes\, tintypes\, and pigment prints captured without a camera. Inspired by flickering shadows on her studio walls and by the earliest works of photography\, made in the 1830s by inventor Henry Fox Talbot\, who aspired to ''fix a shadow'' onto paper\, Hawkes experiments with the cyanotype process to make photograms\, images made by placing objects directly in contact with light-sensitive paper.  In so doing\, Hawkes joins other important contemporary photographers who have returned to ''historical'' or ''alternative'' photographic processes to refresh and develop their artistic visions. Hawkes' vision questions the perceived realities within photographs\; explores the elusive points of contact between reality\, memory\, and imagination\; and participates in the ageless calling of artists to preserve and honor the ephemeral\, to fix fleeting shadows and transmute loss into beauty.
LOCATION:189 Main Street\, Gloucester \, MA 01944 Trident Gallery is in downtown Gloucester\, Massachusetts\, on Main Street at the corner of Duncan Street (which becomes Pleasant Street as it crosses Main).
UID:e.2981.1220
SEQUENCE:3
DTSTAMP:20260419T224108Z
URL:https://business.capeannchamber.com/events/details/pale-shadows-cameraless-images-by-pamela-ellis-hawkes-03-21-2014-1220
END:VEVENT

END:VCALENDAR
