BEGIN:VCALENDAR
VERSION:2.0
PRODID:-//ChamberMaster//Event Calendar 2.0//EN
METHOD:PUBLISH
X-PUBLISHED-TTL:P3D
REFRESH-INTERVAL:P3D
CALSCALE:GREGORIAN
BEGIN:VEVENT
DTSTART:20221119T000000Z
DTEND:20221119T020000Z
X-MICROSOFT-CDO-ALLDAYEVENT:FALSE
SUMMARY:Palaver Strings with Chris Patishall Trio at Shalin Liu
DESCRIPTION:Chamber orchestra Palaver Strings joins forces with the Chris Patishall Trio for a program cenetered around the 1945 masterpiece "Zodiac Suite" by jazz pianist Mary Lou Williams. Inspired by Williams' musical contemporaries and their respective zodiac signs\, this twelve-movement piece is brought to life in a new arrangement for jazz trio and strings. Palaver will also perform pieces by two other pioneering women--Jessie Montgomery and Lili Boulanger.
X-ALT-DESC;FMTTYPE=text/html:Chamber orchestra Palaver Strings joins forces with the Chris Patishall Trio for a program cenetered around the 1945 masterpiece &ldquo\;Zodiac Suite&rdquo\; by jazz pianist Mary Lou Williams. Inspired by Williams&rsquo\; musical contemporaries and their respective zodiac signs\, this twelve-movement piece is brought to life in a new arrangement for jazz trio and strings. Palaver will also perform pieces by two other pioneering women--Jessie Montgomery and Lili Boulanger.
LOCATION:Shalin Liu Performance Center 37 Main St. Rockport\, MA 01966
UID:e.2981.23071
SEQUENCE:3
DTSTAMP:20260424T123724Z
URL:https://business.capeannchamber.com/events/details/palaver-strings-with-chris-patishall-trio-at-shalin-liu-23071
END:VEVENT

END:VCALENDAR
