BEGIN:VCALENDAR
VERSION:2.0
PRODID:-//ChamberMaster//Event Calendar 2.0//EN
METHOD:PUBLISH
X-PUBLISHED-TTL:P3D
REFRESH-INTERVAL:P3D
CALSCALE:GREGORIAN
BEGIN:VEVENT
DTSTART;VALUE=DATE:20251101
DTEND;VALUE=DATE:20251212
TRANSP:TRANSPARENT
X-MICROSOFT-CDO-ALLDAYEVENT:TRUE
SUMMARY:Pack the Bus Toy Drive
DESCRIPTION:Help brighten the holidays for local children by donating a new\, unwrapped toy to our annual Pack the Bus Toy Drive! Let's pack our Beauport Beach Bus with gifts that will make this holiday unforgettable for children in our community. Our Pack the Bus Toy Drive supports the Cape Ann Kids Holiday Fund. The Cape Ann Kids Holiday Fund is a collaboration between Action Inc.\, Pathways for Children\, and Wellspring House that focuses on helping to ease the financial burden of the holidays for families living on Cape Ann. Your thoughtful contribution will make a big splash in our community\, bringing joy to children who need it most. Learn More & Make a Cash Donation.
X-ALT-DESC;FMTTYPE=text/html:<span style="color:black">Help brighten the holidays for local children by donating a new\, unwrapped toy to our annual Pack the Bus Toy Drive! Let&rsquo\;s pack our&nbsp\;</span>Beauport&nbsp\;Beach Bus<span style="color:black">&nbsp\;with gifts that will make this holiday unforgettable for children in our community.</span><span style="color:black">&nbsp\;Our Pack the Bus Toy Drive supports the Cape Ann Kids Holiday Fund. The Cape Ann Kids Holiday Fund is a collaboration between&nbsp\;</span>Action Inc.\, Pathways for Children\, and Wellspring House<span style="color:black">&nbsp\;that focuses on helping to ease the financial burden of the holidays for families living on Cape Ann.&nbsp\;</span>Your thoughtful contribution will make a big splash in our community\, bringing joy to children who need it most.&nbsp\;<strong><a href="https://bit.ly/3O84EdT" style="color: rgb(0\, 120\, 215)\;" title="https://bit.ly/3O84EdT">Learn More &amp\; Make a Cash Donation</a></strong>.&nbsp\;
LOCATION:55 Commercial Street Gloucester\, MA 01930
UID:e.2981.45726
SEQUENCE:3
DTSTAMP:20260425T035010Z
URL:https://business.capeannchamber.com/events/details/pack-the-bus-toy-drive-45726
END:VEVENT

END:VCALENDAR
