BEGIN:VCALENDAR
VERSION:2.0
PRODID:-//ChamberMaster//Event Calendar 2.0//EN
METHOD:PUBLISH
X-PUBLISHED-TTL:P3D
REFRESH-INTERVAL:P3D
CALSCALE:GREGORIAN
BEGIN:VEVENT
DTSTART:20250819T203000Z
DTEND:20250819T220000Z
X-MICROSOFT-CDO-ALLDAYEVENT:FALSE
SUMMARY:Our Snow White's Enchanted Garden Party
DESCRIPTION:Doors open at 4:30 pm.\n\n\n\nStep into a fairy tale at Snow White's Enchanted Garden Party\, a magical celebration set on the breathtaking seaside lawn at the Hammond Castle Museum.\n\n\n\nBegin your adventure at the drawbridge into a world of storybook wonder. Walk around the Castle grounds to the seaside lawn where our Snow White\, played by the beloved Carole Finn of Parties by Carole\, will greet you. Sing along to beloved songs as our princess brings her woodland adventures to life.\n\n\n\nAfterward\, enjoy a lively garden party fit for young royals. Children can show off their favorite princess or knight attire as they stroll through our festive outdoor space\, filled with bubbles\, music\, and dancing.\n\n\n\n- Music & dancing on the lawn\n\n- Bubbles\, LED light wands & temporary tattoos\n\n- Storytelling & photo ops\n\n- Refreshing apple juice\, water & sweet treats\n\n\n\nThis event is sure to delight children and adults alike\, offering a one-of-a-kind experience in a truly magical setting.\n\n\n\nRain or Shine. In the event of inclement weather\, this program will be moved into the Great Hall.\n\n\n\nWe encourage little ones to come dressed in their favorite crown\, cape\, or whatever makes them feel magical!
X-ALT-DESC;FMTTYPE=text/html:<span style="background-color:rgb(255\, 255\, 255)\; color:rgb(24\, 24\, 24)\; font-family:-apple-system\,blinkmacsystemfont\,segoe ui\,roboto\,helvetica\,arial\,sans-serif\,apple color emoji\,segoe ui emoji\,segoe ui symbol\; font-size:14px">Doors open at 4:30 pm.</span><br />\n<br />\n<span style="background-color:rgb(255\, 255\, 255)\; color:rgb(24\, 24\, 24)\; font-family:-apple-system\,blinkmacsystemfont\,segoe ui\,roboto\,helvetica\,arial\,sans-serif\,apple color emoji\,segoe ui emoji\,segoe ui symbol\; font-size:14px">Step into a fairy tale at Snow White&rsquo\;s Enchanted Garden Party\, a magical celebration set on the breathtaking seaside lawn at the Hammond Castle Museum.</span><br />\n<br />\n<span style="background-color:rgb(255\, 255\, 255)\; color:rgb(24\, 24\, 24)\; font-family:-apple-system\,blinkmacsystemfont\,segoe ui\,roboto\,helvetica\,arial\,sans-serif\,apple color emoji\,segoe ui emoji\,segoe ui symbol\; font-size:14px">Begin your adventure at the drawbridge into a world of storybook wonder. Walk around the Castle grounds to the seaside lawn where our Snow White\, played by the beloved Carole Finn of Parties by Carole\, will greet you. Sing along to beloved songs as our princess brings her woodland adventures to life.</span><br />\n<br />\n<span style="background-color:rgb(255\, 255\, 255)\; color:rgb(24\, 24\, 24)\; font-family:-apple-system\,blinkmacsystemfont\,segoe ui\,roboto\,helvetica\,arial\,sans-serif\,apple color emoji\,segoe ui emoji\,segoe ui symbol\; font-size:14px">Afterward\, enjoy a lively garden party fit for young royals. Children can show off their favorite princess or knight attire as they stroll through our festive outdoor space\, filled with bubbles\, music\, and dancing.</span><br />\n<br />\n<span style="background-color:rgb(255\, 255\, 255)\; color:rgb(24\, 24\, 24)\; font-family:-apple-system\,blinkmacsystemfont\,segoe ui\,roboto\,helvetica\,arial\,sans-serif\,apple color emoji\,segoe ui emoji\,segoe ui symbol\; font-size:14px">- Music &amp\; dancing on the lawn</span><br />\n<span style="background-color:rgb(255\, 255\, 255)\; color:rgb(24\, 24\, 24)\; font-family:-apple-system\,blinkmacsystemfont\,segoe ui\,roboto\,helvetica\,arial\,sans-serif\,apple color emoji\,segoe ui emoji\,segoe ui symbol\; font-size:14px">- Bubbles\, LED light wands &amp\; temporary tattoos</span><br />\n<span style="background-color:rgb(255\, 255\, 255)\; color:rgb(24\, 24\, 24)\; font-family:-apple-system\,blinkmacsystemfont\,segoe ui\,roboto\,helvetica\,arial\,sans-serif\,apple color emoji\,segoe ui emoji\,segoe ui symbol\; font-size:14px">- Storytelling &amp\; photo ops</span><br />\n<span style="background-color:rgb(255\, 255\, 255)\; color:rgb(24\, 24\, 24)\; font-family:-apple-system\,blinkmacsystemfont\,segoe ui\,roboto\,helvetica\,arial\,sans-serif\,apple color emoji\,segoe ui emoji\,segoe ui symbol\; font-size:14px">- Refreshing apple juice\, water &amp\; sweet treats</span><br />\n<br />\n<span style="background-color:rgb(255\, 255\, 255)\; color:rgb(24\, 24\, 24)\; font-family:-apple-system\,blinkmacsystemfont\,segoe ui\,roboto\,helvetica\,arial\,sans-serif\,apple color emoji\,segoe ui emoji\,segoe ui symbol\; font-size:14px">This event is sure to delight children and adults alike\, offering a one-of-a-kind experience in a truly magical setting.</span><br />\n<br />\n<span style="background-color:rgb(255\, 255\, 255)\; color:rgb(24\, 24\, 24)\; font-family:-apple-system\,blinkmacsystemfont\,segoe ui\,roboto\,helvetica\,arial\,sans-serif\,apple color emoji\,segoe ui emoji\,segoe ui symbol\; font-size:14px">Rain or Shine. In the event of inclement weather\, this program will be moved into the Great Hall.</span><br />\n<br />\n<span style="background-color:rgb(255\, 255\, 255)\; color:rgb(24\, 24\, 24)\; font-family:-apple-system\,blinkmacsystemfont\,segoe ui\,roboto\,helvetica\,arial\,sans-serif\,apple color emoji\,segoe ui emoji\,segoe ui symbol\; font-size:14px">We encourage little ones to come dressed in their favorite crown\, cape\, or whatever makes them feel magical!</span>
LOCATION:Hammond Castle Museum 80 Hesperus Avenue Gloucester\, MA 01930
UID:e.2981.37325
SEQUENCE:3
DTSTAMP:20260424T235818Z
URL:https://business.capeannchamber.com/events/details/our-snow-white-s-enchanted-garden-party-37325
END:VEVENT

END:VCALENDAR
